BEGIN:VCALENDAR
VERSION:2.0
PRODID:-//FBC Plum Grove - ECPv6.15.3//NONSGML v1.0//EN
CALSCALE:GREGORIAN
METHOD:PUBLISH
X-WR-CALNAME:FBC Plum Grove
X-ORIGINAL-URL:https://www.fbcplumgrove.church
X-WR-CALDESC:Events for FBC Plum Grove
REFRESH-INTERVAL;VALUE=DURATION:PT1H
X-Robots-Tag:noindex
X-PUBLISHED-TTL:PT1H
BEGIN:VTIMEZONE
TZID:UTC
BEGIN:STANDARD
TZOFFSETFROM:+0000
TZOFFSETTO:+0000
TZNAME:UTC
DTSTART:20240101T000000
END:STANDARD
END:VTIMEZONE
BEGIN:VEVENT
DTSTART;TZID=UTC:20240331T073000
DTEND;TZID=UTC:20240331T083000
DTSTAMP:20260425T220055
CREATED:20230726T184457Z
LAST-MODIFIED:20230726T184457Z
UID:1500-1711870200-1711873800@www.fbcplumgrove.church
SUMMARY:Sunrise Service
DESCRIPTION:
URL:https://www.fbcplumgrove.church/calendar/sunrise-service-4/
END:VEVENT
BEGIN:VEVENT
DTSTART;TZID=UTC:20240331T083000
DTEND;TZID=UTC:20240331T213000
DTSTAMP:20260425T220055
CREATED:20230726T184403Z
LAST-MODIFIED:20230726T184403Z
UID:1498-1711873800-1711920600@www.fbcplumgrove.church
SUMMARY:Easter Breakfast
DESCRIPTION:
URL:https://www.fbcplumgrove.church/calendar/easter-breakfast/
END:VEVENT
END:VCALENDAR