BEGIN:VCALENDAR
VERSION:2.0
PRODID:-//FBC Plum Grove - ECPv6.15.3//NONSGML v1.0//EN
CALSCALE:GREGORIAN
METHOD:PUBLISH
X-ORIGINAL-URL:https://www.fbcplumgrove.church
X-WR-CALDESC:Events for FBC Plum Grove
REFRESH-INTERVAL;VALUE=DURATION:PT1H
X-Robots-Tag:noindex
X-PUBLISHED-TTL:PT1H
BEGIN:VTIMEZONE
TZID:UTC
BEGIN:STANDARD
TZOFFSETFROM:+0000
TZOFFSETTO:+0000
TZNAME:UTC
DTSTART:20250101T000000
END:STANDARD
END:VTIMEZONE
BEGIN:VEVENT
DTSTART;TZID=UTC:20251221T120000
DTEND;TZID=UTC:20251221T121500
DTSTAMP:20260423T220659
CREATED:20250921T183005Z
LAST-MODIFIED:20250921T183005Z
UID:1790-1766318400-1766319300@www.fbcplumgrove.church
SUMMARY:Vote on Budget
DESCRIPTION:
URL:https://www.fbcplumgrove.church/calendar/vote-on-budget/
END:VEVENT
BEGIN:VEVENT
DTSTART;VALUE=DATE:20251224
DTEND;VALUE=DATE:20251225
DTSTAMP:20260423T220659
CREATED:20241007T091215Z
LAST-MODIFIED:20241007T091215Z
UID:1586-1766534400-1766620799@www.fbcplumgrove.church
SUMMARY:No Activities
DESCRIPTION:
URL:https://www.fbcplumgrove.church/calendar/no-activities-16/
END:VEVENT
BEGIN:VEVENT
DTSTART;VALUE=DATE:20251231
DTEND;VALUE=DATE:20260101
DTSTAMP:20260423T220659
CREATED:20241007T091257Z
LAST-MODIFIED:20241007T091257Z
UID:1588-1767139200-1767225599@www.fbcplumgrove.church
SUMMARY:No Activities
DESCRIPTION:
URL:https://www.fbcplumgrove.church/calendar/no-activities-17/
END:VEVENT
BEGIN:VEVENT
DTSTART;TZID=UTC:20260107T180000
DTEND;TZID=UTC:20260107T190000
DTSTAMP:20260423T220659
CREATED:20250921T183559Z
LAST-MODIFIED:20250921T205626Z
UID:1792-1767808800-1767812400@www.fbcplumgrove.church
SUMMARY:Women's Evening Bible Study
DESCRIPTION:
URL:https://www.fbcplumgrove.church/calendar/womens-bible-study-2/
END:VEVENT
BEGIN:VEVENT
DTSTART;TZID=UTC:20260110T080000
DTEND;TZID=UTC:20260110T103000
DTSTAMP:20260423T220659
CREATED:20251228T002019Z
LAST-MODIFIED:20260108T000639Z
UID:1975-1768032000-1768041000@www.fbcplumgrove.church
SUMMARY:Church Work Day
DESCRIPTION:
URL:https://www.fbcplumgrove.church/calendar/church-work-day-2/
END:VEVENT
BEGIN:VEVENT
DTSTART;TZID=UTC:20260118T120000
DTEND;TZID=UTC:20260118T140000
DTSTAMP:20260423T220659
CREATED:20251228T001920Z
LAST-MODIFIED:20251228T001920Z
UID:1973-1768737600-1768744800@www.fbcplumgrove.church
SUMMARY:Chili Cook Off - Jan 18
DESCRIPTION:
URL:https://www.fbcplumgrove.church/calendar/chili-cook-off-jan-18/
END:VEVENT
BEGIN:VEVENT
DTSTART;TZID=UTC:20260123T170000
DTEND;TZID=UTC:20260124T200000
DTSTAMP:20260423T220659
CREATED:20250921T184127Z
LAST-MODIFIED:20250921T184127Z
UID:1802-1769187600-1769284800@www.fbcplumgrove.church
SUMMARY:Hot Heart Youth Conference
DESCRIPTION:
URL:https://www.fbcplumgrove.church/calendar/hot-heart-youth-conference/
END:VEVENT
BEGIN:VEVENT
DTSTART;TZID=UTC:20260204T180000
DTEND;TZID=UTC:20260204T190000
DTSTAMP:20260423T220659
CREATED:20250921T184421Z
LAST-MODIFIED:20250921T210118Z
UID:1805-1770228000-1770231600@www.fbcplumgrove.church
SUMMARY:Women's Evening Bible Study
DESCRIPTION:
URL:https://www.fbcplumgrove.church/calendar/womens-bible-study-3/
END:VEVENT
BEGIN:VEVENT
DTSTART;TZID=UTC:20260304T180000
DTEND;TZID=UTC:20260304T190000
DTSTAMP:20260423T220659
CREATED:20250921T185111Z
LAST-MODIFIED:20250921T185418Z
UID:1817-1772647200-1772650800@www.fbcplumgrove.church
SUMMARY:Women Bible Study
DESCRIPTION:
URL:https://www.fbcplumgrove.church/calendar/women-bible-study-4/
END:VEVENT
BEGIN:VEVENT
DTSTART;TZID=UTC:20260305T100000
DTEND;TZID=UTC:20260305T123000
DTSTAMP:20260423T220659
CREATED:20260302T224428Z
LAST-MODIFIED:20260302T224459Z
UID:1979-1772704800-1772713800@www.fbcplumgrove.church
SUMMARY:Senior Plums
DESCRIPTION:Senior Plums want to taco ’bout it! \nWe’ll be meeting this Thursday at 10:30am. On the menu is TACOS! Taco meat and flour tortillas will be provided. Please bring your favorite toppings — lettuce\, tomato\, cheese\, sour cream\, guacamole\, jalapeños (for the daredevils)\, etc. — and/or a dessert. \nHope to see you all there!
URL:https://www.fbcplumgrove.church/calendar/senior-plums-7/
END:VEVENT
BEGIN:VEVENT
DTSTART;TZID=UTC:20260401T180000
DTEND;TZID=UTC:20260401T190000
DTSTAMP:20260423T220659
CREATED:20250921T190048Z
LAST-MODIFIED:20250921T205617Z
UID:1827-1775066400-1775070000@www.fbcplumgrove.church
SUMMARY:Women's Evening Bible Study
DESCRIPTION:
URL:https://www.fbcplumgrove.church/calendar/women-bible-study-5/
END:VEVENT
BEGIN:VEVENT
DTSTART;TZID=UTC:20260507T080000
DTEND;TZID=UTC:20260507T170000
DTSTAMP:20260423T220659
CREATED:20260302T225046Z
LAST-MODIFIED:20260302T225046Z
UID:1981-1778140800-1778173200@www.fbcplumgrove.church
SUMMARY:Senior Plums
DESCRIPTION:
URL:https://www.fbcplumgrove.church/calendar/senior-plums-8/
END:VEVENT
BEGIN:VEVENT
DTSTART;TZID=UTC:20260507T130000
DTEND;TZID=UTC:20260507T140000
DTSTAMP:20260423T220659
CREATED:20250921T192159Z
LAST-MODIFIED:20251015T233231Z
UID:1853-1778158800-1778162400@www.fbcplumgrove.church
SUMMARY:Women's Bible Study @ FBCPG
DESCRIPTION:
URL:https://www.fbcplumgrove.church/calendar/bible-study-susans-house-3/
END:VEVENT
BEGIN:VEVENT
DTSTART;TZID=UTC:20260507T130000
DTEND;TZID=UTC:20260507T140000
DTSTAMP:20260423T220659
CREATED:20250921T210611Z
LAST-MODIFIED:20251015T233219Z
UID:1911-1778158800-1778162400@www.fbcplumgrove.church
SUMMARY:Women's Bible Study @ FBCPG
DESCRIPTION:
URL:https://www.fbcplumgrove.church/calendar/womens-bible-study-susans-home/
END:VEVENT
BEGIN:VEVENT
DTSTART;TZID=UTC:20260603T180000
DTEND;TZID=UTC:20260603T190000
DTSTAMP:20260423T220659
CREATED:20250921T210506Z
LAST-MODIFIED:20250921T210506Z
UID:1909-1780509600-1780513200@www.fbcplumgrove.church
SUMMARY:Women's Evening Bible Study
DESCRIPTION:
URL:https://www.fbcplumgrove.church/calendar/womens-evening-bible-study/
END:VEVENT
BEGIN:VEVENT
DTSTART;TZID=UTC:20260614T080000
DTEND;TZID=UTC:20260620T170000
DTSTAMP:20260423T220659
CREATED:20250921T190515Z
LAST-MODIFIED:20250921T190515Z
UID:1835-1781424000-1781974800@www.fbcplumgrove.church
SUMMARY:Student Mission Trip
DESCRIPTION:
URL:https://www.fbcplumgrove.church/calendar/student-mission-trip/
END:VEVENT
BEGIN:VEVENT
DTSTART;TZID=UTC:20260712T180000
DTEND;TZID=UTC:20260712T210000
DTSTAMP:20260423T220659
CREATED:20250921T190832Z
LAST-MODIFIED:20250921T190900Z
UID:1839-1783879200-1783890000@www.fbcplumgrove.church
SUMMARY:VBS
DESCRIPTION:
URL:https://www.fbcplumgrove.church/calendar/vbs-7/
END:VEVENT
BEGIN:VEVENT
DTSTART;TZID=UTC:20260713T180000
DTEND;TZID=UTC:20260713T210000
DTSTAMP:20260423T220659
CREATED:20250921T190944Z
LAST-MODIFIED:20250921T190944Z
UID:1841-1783965600-1783976400@www.fbcplumgrove.church
SUMMARY:VBS
DESCRIPTION:
URL:https://www.fbcplumgrove.church/calendar/vbs-8/
END:VEVENT
BEGIN:VEVENT
DTSTART;TZID=UTC:20260714T180000
DTEND;TZID=UTC:20260714T210000
DTSTAMP:20260423T220659
CREATED:20250921T191030Z
LAST-MODIFIED:20250921T191030Z
UID:1843-1784052000-1784062800@www.fbcplumgrove.church
SUMMARY:VBS
DESCRIPTION:
URL:https://www.fbcplumgrove.church/calendar/vbs-9/
END:VEVENT
BEGIN:VEVENT
DTSTART;TZID=UTC:20260715T180000
DTEND;TZID=UTC:20260715T210000
DTSTAMP:20260423T220659
CREATED:20250921T191111Z
LAST-MODIFIED:20250921T191111Z
UID:1845-1784138400-1784149200@www.fbcplumgrove.church
SUMMARY:VBS
DESCRIPTION:
URL:https://www.fbcplumgrove.church/calendar/vbs-10/
END:VEVENT
BEGIN:VEVENT
DTSTART;TZID=UTC:20260716T180000
DTEND;TZID=UTC:20260716T210000
DTSTAMP:20260423T220659
CREATED:20250921T191142Z
LAST-MODIFIED:20250921T191142Z
UID:1847-1784224800-1784235600@www.fbcplumgrove.church
SUMMARY:VBS
DESCRIPTION:
URL:https://www.fbcplumgrove.church/calendar/vbs-11/
END:VEVENT
END:VCALENDAR