BEGIN:VCALENDAR
VERSION:2.0
PRODID:-//FBC Plum Grove - ECPv6.15.3//NONSGML v1.0//EN
CALSCALE:GREGORIAN
METHOD:PUBLISH
X-WR-CALNAME:FBC Plum Grove
X-ORIGINAL-URL:https://www.fbcplumgrove.church
X-WR-CALDESC:Events for FBC Plum Grove
REFRESH-INTERVAL;VALUE=DURATION:PT1H
X-Robots-Tag:noindex
X-PUBLISHED-TTL:PT1H
BEGIN:VTIMEZONE
TZID:UTC
BEGIN:STANDARD
TZOFFSETFROM:+0000
TZOFFSETTO:+0000
TZNAME:UTC
DTSTART:20230101T000000
END:STANDARD
END:VTIMEZONE
BEGIN:VEVENT
DTSTART;TZID=UTC:20231203T110000
DTEND;TZID=UTC:20231203T120000
DTSTAMP:20260424T094231
CREATED:20230731T210813Z
LAST-MODIFIED:20230731T210813Z
UID:1520-1701601200-1701604800@www.fbcplumgrove.church
SUMMARY:Special Called Business Meeting to Vote on Proposed Budget for 2024
DESCRIPTION:No discussion simply up or down vote
URL:https://www.fbcplumgrove.church/calendar/special-called-business-meeting-to-vote-on-proposed-budget-for-2024/
END:VEVENT
BEGIN:VEVENT
DTSTART;VALUE=DATE:20231122
DTEND;VALUE=DATE:20231123
DTSTAMP:20260424T094231
CREATED:20230714T202226Z
LAST-MODIFIED:20230714T202226Z
UID:1461-1700611200-1700697599@www.fbcplumgrove.church
SUMMARY:No Activities
DESCRIPTION:
URL:https://www.fbcplumgrove.church/calendar/no-activities-10/
END:VEVENT
BEGIN:VEVENT
DTSTART;VALUE=DATE:20231117
DTEND;VALUE=DATE:20231119
DTSTAMP:20260424T094231
CREATED:20230701T225900Z
LAST-MODIFIED:20230731T180147Z
UID:1448-1700179200-1700351999@www.fbcplumgrove.church
SUMMARY:Gober/Faulkner Wedding
DESCRIPTION:
URL:https://www.fbcplumgrove.church/calendar/gober-wedding/
END:VEVENT
BEGIN:VEVENT
DTSTART;TZID=UTC:20231115T200000
DTEND;TZID=UTC:20231115T203000
DTSTAMP:20260424T094231
CREATED:20230731T211045Z
LAST-MODIFIED:20230731T211045Z
UID:1524-1700078400-1700080200@www.fbcplumgrove.church
SUMMARY:Special Called Business Meeting to discuss Proposed Budget for 2024
DESCRIPTION:
URL:https://www.fbcplumgrove.church/calendar/special-called-business-meeting-to-discuss-proposed-budget-for-2024-2/
END:VEVENT
BEGIN:VEVENT
DTSTART;TZID=UTC:20231112T120000
DTEND;TZID=UTC:20231112T133000
DTSTAMP:20260424T094231
CREATED:20230726T181744Z
LAST-MODIFIED:20230806T202739Z
UID:1474-1699790400-1699795800@www.fbcplumgrove.church
SUMMARY:Thanksgiving Meal
DESCRIPTION:
URL:https://www.fbcplumgrove.church/calendar/christmas-program/
END:VEVENT
BEGIN:VEVENT
DTSTART;TZID=UTC:20231112T110000
DTEND;TZID=UTC:20231112T120000
DTSTAMP:20260424T094231
CREATED:20230729T120922Z
LAST-MODIFIED:20230806T202837Z
UID:1514-1699786800-1699790400@www.fbcplumgrove.church
SUMMARY:Combined Worship
DESCRIPTION:
URL:https://www.fbcplumgrove.church/calendar/combined/
END:VEVENT
BEGIN:VEVENT
DTSTART;TZID=UTC:20231108T200000
DTEND;TZID=UTC:20231108T203000
DTSTAMP:20260424T094231
CREATED:20230731T210951Z
LAST-MODIFIED:20230731T210951Z
UID:1522-1699473600-1699475400@www.fbcplumgrove.church
SUMMARY:Special Called Business Meeting to discuss Proposed Budget for 2024
DESCRIPTION:
URL:https://www.fbcplumgrove.church/calendar/special-called-business-meeting-to-discuss-proposed-budget-for-2024/
END:VEVENT
BEGIN:VEVENT
DTSTART;TZID=UTC:20231102T100000
DTEND;TZID=UTC:20231102T140000
DTSTAMP:20260424T094231
CREATED:20230806T203433Z
LAST-MODIFIED:20230806T203433Z
UID:1535-1698919200-1698933600@www.fbcplumgrove.church
SUMMARY:Senior Plums
DESCRIPTION:
URL:https://www.fbcplumgrove.church/calendar/senior-plums-3/
END:VEVENT
BEGIN:VEVENT
DTSTART;TZID=UTC:20231028T080000
DTEND;TZID=UTC:20231028T170000
DTSTAMP:20260424T094231
CREATED:20230116T161559Z
LAST-MODIFIED:20230116T161559Z
UID:1407-1698480000-1698512400@www.fbcplumgrove.church
SUMMARY:Moore Wedding
DESCRIPTION:
URL:https://www.fbcplumgrove.church/calendar/moore-wedding/
END:VEVENT
BEGIN:VEVENT
DTSTART;VALUE=DATE:20231027
DTEND;VALUE=DATE:20231028
DTSTAMP:20260424T094231
CREATED:20230714T202058Z
LAST-MODIFIED:20230731T180257Z
UID:1459-1698364800-1698451199@www.fbcplumgrove.church
SUMMARY:Moore Wedding Rehearsal
DESCRIPTION:
URL:https://www.fbcplumgrove.church/calendar/wedding-rehersal/
END:VEVENT
BEGIN:VEVENT
DTSTART;TZID=UTC:20231021T063000
DTEND;TZID=UTC:20231021T203000
DTSTAMP:20260424T094231
CREATED:20230726T184118Z
LAST-MODIFIED:20230806T202602Z
UID:1494-1697869800-1697920200@www.fbcplumgrove.church
SUMMARY:Fall Festival
DESCRIPTION:
URL:https://www.fbcplumgrove.church/calendar/fall-festival-3/
END:VEVENT
BEGIN:VEVENT
DTSTART;TZID=UTC:20231011T200000
DTEND;TZID=UTC:20231011T203000
DTSTAMP:20260424T094231
CREATED:20230726T183843Z
LAST-MODIFIED:20230726T183843Z
UID:1490-1697054400-1697056200@www.fbcplumgrove.church
SUMMARY:QTR Business Meeting
DESCRIPTION:
URL:https://www.fbcplumgrove.church/calendar/qtr-business-meeting-7/
END:VEVENT
BEGIN:VEVENT
DTSTART;TZID=UTC:20231005T100000
DTEND;TZID=UTC:20231005T140000
DTSTAMP:20260424T094231
CREATED:20230806T203343Z
LAST-MODIFIED:20230806T203343Z
UID:1533-1696500000-1696514400@www.fbcplumgrove.church
SUMMARY:Senior Plums
DESCRIPTION:
URL:https://www.fbcplumgrove.church/calendar/senior-plums-2/
END:VEVENT
BEGIN:VEVENT
DTSTART;TZID=UTC:20231001T110000
DTEND;TZID=UTC:20231001T120000
DTSTAMP:20260424T094231
CREATED:20230729T120554Z
LAST-MODIFIED:20230729T120554Z
UID:1508-1696158000-1696161600@www.fbcplumgrove.church
SUMMARY:Combined Worship
DESCRIPTION:
URL:https://www.fbcplumgrove.church/calendar/combined-worship-10/
END:VEVENT
BEGIN:VEVENT
DTSTART;VALUE=DATE:20230930
DTEND;VALUE=DATE:20231001
DTSTAMP:20260424T094231
CREATED:20230714T201051Z
LAST-MODIFIED:20230828T150508Z
UID:1451-1696032000-1696118399@www.fbcplumgrove.church
SUMMARY:Private Event: Gober/Faulkner Wedding Shower
DESCRIPTION:
URL:https://www.fbcplumgrove.church/calendar/private-event-2/
END:VEVENT
BEGIN:VEVENT
DTSTART;TZID=UTC:20230924T120000
DTEND;TZID=UTC:20230924T140000
DTSTAMP:20260424T094231
CREATED:20230807T094918Z
LAST-MODIFIED:20230807T094918Z
UID:1543-1695556800-1695564000@www.fbcplumgrove.church
SUMMARY:Fish Fry
DESCRIPTION:
URL:https://www.fbcplumgrove.church/calendar/fish-fry/
END:VEVENT
BEGIN:VEVENT
DTSTART;TZID=UTC:20230924T110000
DTEND;TZID=UTC:20230924T120000
DTSTAMP:20260424T094231
CREATED:20230729T120520Z
LAST-MODIFIED:20230807T095306Z
UID:1506-1695553200-1695556800@www.fbcplumgrove.church
SUMMARY:Combined Worship
DESCRIPTION:
URL:https://www.fbcplumgrove.church/calendar/combined-worship-9/
END:VEVENT
BEGIN:VEVENT
DTSTART;TZID=UTC:20230907T100000
DTEND;TZID=UTC:20230907T140000
DTSTAMP:20260424T094231
CREATED:20230806T203257Z
LAST-MODIFIED:20230806T203257Z
UID:1531-1694080800-1694095200@www.fbcplumgrove.church
SUMMARY:Senior Plums
DESCRIPTION:
URL:https://www.fbcplumgrove.church/calendar/senior-plums/
END:VEVENT
BEGIN:VEVENT
DTSTART;TZID=UTC:20230818T183000
DTEND;TZID=UTC:20230818T203000
DTSTAMP:20260424T094231
CREATED:20230726T145703Z
LAST-MODIFIED:20230726T145703Z
UID:1466-1692383400-1692390600@www.fbcplumgrove.church
SUMMARY:Men's Ministry - Hamburger Supper
DESCRIPTION:
URL:https://www.fbcplumgrove.church/calendar/mens-ministry-hamburger-supper/
END:VEVENT
BEGIN:VEVENT
DTSTART;TZID=UTC:20230806T123000
DTEND;TZID=UTC:20230806T143000
DTSTAMP:20260424T094231
CREATED:20230726T152850Z
LAST-MODIFIED:20230726T152850Z
UID:1470-1691325000-1691332200@www.fbcplumgrove.church
SUMMARY:Leadership Meeting
DESCRIPTION:
URL:https://www.fbcplumgrove.church/calendar/leadership-meeting-3/
END:VEVENT
BEGIN:VEVENT
DTSTART;VALUE=DATE:20230805
DTEND;VALUE=DATE:20230806
DTSTAMP:20260424T094231
CREATED:20230726T150057Z
LAST-MODIFIED:20230726T150057Z
UID:1468-1691193600-1691279999@www.fbcplumgrove.church
SUMMARY:Equip Conference
DESCRIPTION:Van leaving church at 7:15Am arriving back around 5:30
URL:https://www.fbcplumgrove.church/calendar/equip-conference-3/
END:VEVENT
BEGIN:VEVENT
DTSTART;TZID=UTC:20230730T110000
DTEND;TZID=UTC:20230730T120000
DTSTAMP:20260424T094231
CREATED:20230729T120453Z
LAST-MODIFIED:20230729T120453Z
UID:1504-1690714800-1690718400@www.fbcplumgrove.church
SUMMARY:Combined Worship
DESCRIPTION:
URL:https://www.fbcplumgrove.church/calendar/combined-worship-4/
END:VEVENT
BEGIN:VEVENT
DTSTART;TZID=UTC:20230729T080000
DTEND;TZID=UTC:20230729T150000
DTSTAMP:20260424T094231
CREATED:20230714T201203Z
LAST-MODIFIED:20230714T201203Z
UID:1453-1690617600-1690642800@www.fbcplumgrove.church
SUMMARY:Funeral
DESCRIPTION:
URL:https://www.fbcplumgrove.church/calendar/funeral/
END:VEVENT
BEGIN:VEVENT
DTSTART;VALUE=DATE:20230723
DTEND;VALUE=DATE:20230724
DTSTAMP:20260424T094231
CREATED:20230714T201712Z
LAST-MODIFIED:20230714T201712Z
UID:1455-1690070400-1690156799@www.fbcplumgrove.church
SUMMARY:Bar-b-que Lunch following Worship
DESCRIPTION:
URL:https://www.fbcplumgrove.church/calendar/bar-b-que-lunch-following-worship/
END:VEVENT
BEGIN:VEVENT
DTSTART;TZID=UTC:20230719T200000
DTEND;TZID=UTC:20230719T203000
DTSTAMP:20260424T094231
CREATED:20230714T201852Z
LAST-MODIFIED:20230714T201852Z
UID:1457-1689796800-1689798600@www.fbcplumgrove.church
SUMMARY:Quarterly Business Meeting
DESCRIPTION:
URL:https://www.fbcplumgrove.church/calendar/quarterly-business-meeting-5/
END:VEVENT
BEGIN:VEVENT
DTSTART;TZID=UTC:20230709T180000
DTEND;TZID=UTC:20230713T203000
DTSTAMP:20260424T094231
CREATED:20230502T224313Z
LAST-MODIFIED:20230502T224313Z
UID:1432-1688925600-1689280200@www.fbcplumgrove.church
SUMMARY:VBS
DESCRIPTION:
URL:https://www.fbcplumgrove.church/calendar/vbs-4/
END:VEVENT
BEGIN:VEVENT
DTSTART;TZID=UTC:20230709T080000
DTEND;TZID=UTC:20230713T170000
DTSTAMP:20260424T094231
CREATED:20230116T161813Z
LAST-MODIFIED:20230116T161906Z
UID:1409-1688889600-1689267600@www.fbcplumgrove.church
SUMMARY:VBS
DESCRIPTION:Join of fun activities at the church. Games\, food\, crafts and more! Sunday – Thursday 6pm – 9pm.
URL:https://www.fbcplumgrove.church/calendar/vbs-3/
END:VEVENT
BEGIN:VEVENT
DTSTART;TZID=UTC:20230624T170000
DTEND;TZID=UTC:20230624T210000
DTSTAMP:20260424T094231
CREATED:20230503T183117Z
LAST-MODIFIED:20230503T183117Z
UID:1442-1687626000-1687640400@www.fbcplumgrove.church
SUMMARY:Movie Night
DESCRIPTION:
URL:https://www.fbcplumgrove.church/calendar/movie-night-4/
END:VEVENT
BEGIN:VEVENT
DTSTART;TZID=UTC:20230624T100000
DTEND;TZID=UTC:20230624T140000
DTSTAMP:20260424T094231
CREATED:20230503T182804Z
LAST-MODIFIED:20230503T182804Z
UID:1434-1687600800-1687615200@www.fbcplumgrove.church
SUMMARY:Private Event - Wiggins
DESCRIPTION:
URL:https://www.fbcplumgrove.church/calendar/private-event-wiggins/
END:VEVENT
BEGIN:VEVENT
DTSTART;TZID=UTC:20230617T170000
DTEND;TZID=UTC:20230617T210000
DTSTAMP:20260424T094231
CREATED:20230503T183046Z
LAST-MODIFIED:20230503T183046Z
UID:1440-1687021200-1687035600@www.fbcplumgrove.church
SUMMARY:Movie Night
DESCRIPTION:
URL:https://www.fbcplumgrove.church/calendar/movie-night-3/
END:VEVENT
END:VCALENDAR