BEGIN:VCALENDAR
VERSION:2.0
PRODID:-//FBC Plum Grove - ECPv6.15.3//NONSGML v1.0//EN
CALSCALE:GREGORIAN
METHOD:PUBLISH
X-WR-CALNAME:FBC Plum Grove
X-ORIGINAL-URL:https://www.fbcplumgrove.church
X-WR-CALDESC:Events for FBC Plum Grove
REFRESH-INTERVAL;VALUE=DURATION:PT1H
X-Robots-Tag:noindex
X-PUBLISHED-TTL:PT1H
BEGIN:VTIMEZONE
TZID:UTC
BEGIN:STANDARD
TZOFFSETFROM:+0000
TZOFFSETTO:+0000
TZNAME:UTC
DTSTART:20210101T000000
END:STANDARD
END:VTIMEZONE
BEGIN:VEVENT
DTSTART;TZID=UTC:20230907T100000
DTEND;TZID=UTC:20230907T140000
DTSTAMP:20260424T102355
CREATED:20230806T203257Z
LAST-MODIFIED:20230806T203257Z
UID:1531-1694080800-1694095200@www.fbcplumgrove.church
SUMMARY:Senior Plums
DESCRIPTION:
URL:https://www.fbcplumgrove.church/calendar/senior-plums/
END:VEVENT
BEGIN:VEVENT
DTSTART;TZID=UTC:20230818T183000
DTEND;TZID=UTC:20230818T203000
DTSTAMP:20260424T102355
CREATED:20230726T145703Z
LAST-MODIFIED:20230726T145703Z
UID:1466-1692383400-1692390600@www.fbcplumgrove.church
SUMMARY:Men's Ministry - Hamburger Supper
DESCRIPTION:
URL:https://www.fbcplumgrove.church/calendar/mens-ministry-hamburger-supper/
END:VEVENT
BEGIN:VEVENT
DTSTART;TZID=UTC:20230806T123000
DTEND;TZID=UTC:20230806T143000
DTSTAMP:20260424T102355
CREATED:20230726T152850Z
LAST-MODIFIED:20230726T152850Z
UID:1470-1691325000-1691332200@www.fbcplumgrove.church
SUMMARY:Leadership Meeting
DESCRIPTION:
URL:https://www.fbcplumgrove.church/calendar/leadership-meeting-3/
END:VEVENT
BEGIN:VEVENT
DTSTART;VALUE=DATE:20230805
DTEND;VALUE=DATE:20230806
DTSTAMP:20260424T102355
CREATED:20230726T150057Z
LAST-MODIFIED:20230726T150057Z
UID:1468-1691193600-1691279999@www.fbcplumgrove.church
SUMMARY:Equip Conference
DESCRIPTION:Van leaving church at 7:15Am arriving back around 5:30
URL:https://www.fbcplumgrove.church/calendar/equip-conference-3/
END:VEVENT
BEGIN:VEVENT
DTSTART;TZID=UTC:20230730T110000
DTEND;TZID=UTC:20230730T120000
DTSTAMP:20260424T102355
CREATED:20230729T120453Z
LAST-MODIFIED:20230729T120453Z
UID:1504-1690714800-1690718400@www.fbcplumgrove.church
SUMMARY:Combined Worship
DESCRIPTION:
URL:https://www.fbcplumgrove.church/calendar/combined-worship-4/
END:VEVENT
BEGIN:VEVENT
DTSTART;TZID=UTC:20230729T080000
DTEND;TZID=UTC:20230729T150000
DTSTAMP:20260424T102355
CREATED:20230714T201203Z
LAST-MODIFIED:20230714T201203Z
UID:1453-1690617600-1690642800@www.fbcplumgrove.church
SUMMARY:Funeral
DESCRIPTION:
URL:https://www.fbcplumgrove.church/calendar/funeral/
END:VEVENT
BEGIN:VEVENT
DTSTART;VALUE=DATE:20230723
DTEND;VALUE=DATE:20230724
DTSTAMP:20260424T102355
CREATED:20230714T201712Z
LAST-MODIFIED:20230714T201712Z
UID:1455-1690070400-1690156799@www.fbcplumgrove.church
SUMMARY:Bar-b-que Lunch following Worship
DESCRIPTION:
URL:https://www.fbcplumgrove.church/calendar/bar-b-que-lunch-following-worship/
END:VEVENT
BEGIN:VEVENT
DTSTART;TZID=UTC:20230719T200000
DTEND;TZID=UTC:20230719T203000
DTSTAMP:20260424T102355
CREATED:20230714T201852Z
LAST-MODIFIED:20230714T201852Z
UID:1457-1689796800-1689798600@www.fbcplumgrove.church
SUMMARY:Quarterly Business Meeting
DESCRIPTION:
URL:https://www.fbcplumgrove.church/calendar/quarterly-business-meeting-5/
END:VEVENT
BEGIN:VEVENT
DTSTART;TZID=UTC:20230709T180000
DTEND;TZID=UTC:20230713T203000
DTSTAMP:20260424T102355
CREATED:20230502T224313Z
LAST-MODIFIED:20230502T224313Z
UID:1432-1688925600-1689280200@www.fbcplumgrove.church
SUMMARY:VBS
DESCRIPTION:
URL:https://www.fbcplumgrove.church/calendar/vbs-4/
END:VEVENT
BEGIN:VEVENT
DTSTART;TZID=UTC:20230709T080000
DTEND;TZID=UTC:20230713T170000
DTSTAMP:20260424T102355
CREATED:20230116T161813Z
LAST-MODIFIED:20230116T161906Z
UID:1409-1688889600-1689267600@www.fbcplumgrove.church
SUMMARY:VBS
DESCRIPTION:Join of fun activities at the church. Games\, food\, crafts and more! Sunday – Thursday 6pm – 9pm.
URL:https://www.fbcplumgrove.church/calendar/vbs-3/
END:VEVENT
BEGIN:VEVENT
DTSTART;TZID=UTC:20230624T170000
DTEND;TZID=UTC:20230624T210000
DTSTAMP:20260424T102355
CREATED:20230503T183117Z
LAST-MODIFIED:20230503T183117Z
UID:1442-1687626000-1687640400@www.fbcplumgrove.church
SUMMARY:Movie Night
DESCRIPTION:
URL:https://www.fbcplumgrove.church/calendar/movie-night-4/
END:VEVENT
BEGIN:VEVENT
DTSTART;TZID=UTC:20230624T100000
DTEND;TZID=UTC:20230624T140000
DTSTAMP:20260424T102355
CREATED:20230503T182804Z
LAST-MODIFIED:20230503T182804Z
UID:1434-1687600800-1687615200@www.fbcplumgrove.church
SUMMARY:Private Event - Wiggins
DESCRIPTION:
URL:https://www.fbcplumgrove.church/calendar/private-event-wiggins/
END:VEVENT
BEGIN:VEVENT
DTSTART;TZID=UTC:20230617T170000
DTEND;TZID=UTC:20230617T210000
DTSTAMP:20260424T102355
CREATED:20230503T183046Z
LAST-MODIFIED:20230503T183046Z
UID:1440-1687021200-1687035600@www.fbcplumgrove.church
SUMMARY:Movie Night
DESCRIPTION:
URL:https://www.fbcplumgrove.church/calendar/movie-night-3/
END:VEVENT
BEGIN:VEVENT
DTSTART;TZID=UTC:20230612T080000
DTEND;TZID=UTC:20230616T170000
DTSTAMP:20260424T102355
CREATED:20230503T183235Z
LAST-MODIFIED:20230503T183235Z
UID:1444-1686556800-1686934800@www.fbcplumgrove.church
SUMMARY:Kids Camp - Lake Tomahawk
DESCRIPTION:
URL:https://www.fbcplumgrove.church/calendar/kids-camp-lake-tomahawk/
END:VEVENT
BEGIN:VEVENT
DTSTART;TZID=UTC:20230610T170000
DTEND;TZID=UTC:20230610T210000
DTSTAMP:20260424T102355
CREATED:20230503T183005Z
LAST-MODIFIED:20230503T183005Z
UID:1438-1686416400-1686430800@www.fbcplumgrove.church
SUMMARY:Movie Night
DESCRIPTION:
URL:https://www.fbcplumgrove.church/calendar/movie-night-2/
END:VEVENT
BEGIN:VEVENT
DTSTART;TZID=UTC:20230604T130000
DTEND;TZID=UTC:20230604T170000
DTSTAMP:20260424T102355
CREATED:20230502T223803Z
LAST-MODIFIED:20230502T223803Z
UID:1430-1685883600-1685898000@www.fbcplumgrove.church
SUMMARY:Private Event
DESCRIPTION:Laurel Shilling
URL:https://www.fbcplumgrove.church/calendar/private-event/
END:VEVENT
BEGIN:VEVENT
DTSTART;TZID=UTC:20230520T170000
DTEND;TZID=UTC:20230520T210000
DTSTAMP:20260424T102355
CREATED:20230503T182856Z
LAST-MODIFIED:20230503T182856Z
UID:1436-1684602000-1684616400@www.fbcplumgrove.church
SUMMARY:Movie Night
DESCRIPTION:
URL:https://www.fbcplumgrove.church/calendar/movie-night/
END:VEVENT
BEGIN:VEVENT
DTSTART;TZID=UTC:20230506T150000
DTEND;TZID=UTC:20230506T190000
DTSTAMP:20260424T102355
CREATED:20230321T015631Z
LAST-MODIFIED:20230502T224016Z
UID:1427-1683385200-1683399600@www.fbcplumgrove.church
SUMMARY:Spring Festival
DESCRIPTION:
URL:https://www.fbcplumgrove.church/calendar/spring-festival/
END:VEVENT
BEGIN:VEVENT
DTSTART;TZID=UTC:20230401T080000
DTEND;TZID=UTC:20230401T143000
DTSTAMP:20260424T102355
CREATED:20230321T015555Z
LAST-MODIFIED:20230321T015555Z
UID:1425-1680336000-1680359400@www.fbcplumgrove.church
SUMMARY:Church Garage Sale
DESCRIPTION:
URL:https://www.fbcplumgrove.church/calendar/church-garage-sale/
END:VEVENT
BEGIN:VEVENT
DTSTART;TZID=UTC:20220710T180000
DTEND;TZID=UTC:20220714T210000
DTSTAMP:20260424T102355
CREATED:20210809T011112Z
LAST-MODIFIED:20220307T015737Z
UID:1377-1657476000-1657832400@www.fbcplumgrove.church
SUMMARY:VBS
DESCRIPTION:
URL:https://www.fbcplumgrove.church/calendar/vbs-2/
END:VEVENT
BEGIN:VEVENT
DTSTART;TZID=UTC:20220112T200000
DTEND;TZID=UTC:20220112T203000
DTSTAMP:20260424T102355
CREATED:20210202T111658Z
LAST-MODIFIED:20210202T111658Z
UID:1240-1642017600-1642019400@www.fbcplumgrove.church
SUMMARY:Quarterly Business Meeting
DESCRIPTION:Following Bible Study
URL:https://www.fbcplumgrove.church/calendar/quarterly-business-meeting-4/
END:VEVENT
BEGIN:VEVENT
DTSTART;VALUE=DATE:20211229
DTEND;VALUE=DATE:20211230
DTSTAMP:20260424T102355
CREATED:20210202T112104Z
LAST-MODIFIED:20210202T112104Z
UID:1246-1640736000-1640822399@www.fbcplumgrove.church
SUMMARY:***NO ACTIVITIES***
DESCRIPTION:
URL:https://www.fbcplumgrove.church/calendar/no-activities-9/
END:VEVENT
BEGIN:VEVENT
DTSTART;VALUE=DATE:20211222
DTEND;VALUE=DATE:20211223
DTSTAMP:20260424T102355
CREATED:20210202T112024Z
LAST-MODIFIED:20210202T112024Z
UID:1244-1640131200-1640217599@www.fbcplumgrove.church
SUMMARY:***NO ACTIVITIES***
DESCRIPTION:
URL:https://www.fbcplumgrove.church/calendar/no-activities-8/
END:VEVENT
BEGIN:VEVENT
DTSTART;TZID=UTC:20211212T110000
DTEND;TZID=UTC:20211212T120000
DTSTAMP:20260424T102355
CREATED:20210727T210839Z
LAST-MODIFIED:20210727T211021Z
UID:1363-1639306800-1639310400@www.fbcplumgrove.church
SUMMARY:Christmas Program - Presented by Children's Choir
DESCRIPTION:
URL:https://www.fbcplumgrove.church/calendar/christmas-program-presented-by-childrens-choir/
END:VEVENT
BEGIN:VEVENT
DTSTART;TZID=UTC:20211212T103000
DTEND;TZID=UTC:20211212T120000
DTSTAMP:20260424T102355
CREATED:20210727T211356Z
LAST-MODIFIED:20210727T211420Z
UID:1369-1639305000-1639310400@www.fbcplumgrove.church
SUMMARY:Combined Service
DESCRIPTION:
URL:https://www.fbcplumgrove.church/calendar/combined-wervice/
END:VEVENT
BEGIN:VEVENT
DTSTART;TZID=UTC:20211205T110000
DTEND;TZID=UTC:20211205T120000
DTSTAMP:20260424T102355
CREATED:20210202T111137Z
LAST-MODIFIED:20210202T111137Z
UID:1236-1638702000-1638705600@www.fbcplumgrove.church
SUMMARY:Vote on Church Budget
DESCRIPTION:
URL:https://www.fbcplumgrove.church/calendar/vote-on-church-budget/
END:VEVENT
BEGIN:VEVENT
DTSTART;VALUE=DATE:20211124
DTEND;VALUE=DATE:20211125
DTSTAMP:20260424T102355
CREATED:20210202T111922Z
LAST-MODIFIED:20210202T111922Z
UID:1242-1637712000-1637798399@www.fbcplumgrove.church
SUMMARY:***NO ACTIVITIES***
DESCRIPTION:
URL:https://www.fbcplumgrove.church/calendar/no-activities-7/
END:VEVENT
BEGIN:VEVENT
DTSTART;TZID=UTC:20211121T123000
DTEND;TZID=UTC:20211121T143000
DTSTAMP:20260424T102355
CREATED:20210727T211247Z
LAST-MODIFIED:20210727T211247Z
UID:1367-1637497800-1637505000@www.fbcplumgrove.church
SUMMARY:Church Thanksgiving Meal
DESCRIPTION:
URL:https://www.fbcplumgrove.church/calendar/church-thanksgiving-meal/
END:VEVENT
BEGIN:VEVENT
DTSTART;TZID=UTC:20211121T110000
DTEND;TZID=UTC:20211121T120000
DTSTAMP:20260424T102355
CREATED:20210727T211148Z
LAST-MODIFIED:20210727T211148Z
UID:1365-1637492400-1637496000@www.fbcplumgrove.church
SUMMARY:Combined Service
DESCRIPTION:
URL:https://www.fbcplumgrove.church/calendar/combined-service-3/
END:VEVENT
BEGIN:VEVENT
DTSTART;TZID=UTC:20211031T110000
DTEND;TZID=UTC:20211031T120000
DTSTAMP:20260424T102355
CREATED:20210727T211541Z
LAST-MODIFIED:20210727T211541Z
UID:1372-1635678000-1635681600@www.fbcplumgrove.church
SUMMARY:Combined Service
DESCRIPTION:
URL:https://www.fbcplumgrove.church/calendar/combined-service-4/
END:VEVENT
END:VCALENDAR