BEGIN:VCALENDAR
VERSION:2.0
PRODID:-//FBC Plum Grove - ECPv6.15.3//NONSGML v1.0//EN
CALSCALE:GREGORIAN
METHOD:PUBLISH
X-WR-CALNAME:FBC Plum Grove
X-ORIGINAL-URL:https://www.fbcplumgrove.church
X-WR-CALDESC:Events for FBC Plum Grove
REFRESH-INTERVAL;VALUE=DURATION:PT1H
X-Robots-Tag:noindex
X-PUBLISHED-TTL:PT1H
BEGIN:VTIMEZONE
TZID:UTC
BEGIN:STANDARD
TZOFFSETFROM:+0000
TZOFFSETTO:+0000
TZNAME:UTC
DTSTART:20200101T000000
END:STANDARD
END:VTIMEZONE
BEGIN:VEVENT
DTSTART;VALUE=DATE:20201230
DTEND;VALUE=DATE:20201231
DTSTAMP:20260425T112550
CREATED:20190710T002804Z
LAST-MODIFIED:20190710T002804Z
UID:838-1609286400-1609372799@www.fbcplumgrove.church
SUMMARY:***No Activities***
DESCRIPTION:
URL:https://www.fbcplumgrove.church/calendar/no-activities-3/
END:VEVENT
BEGIN:VEVENT
DTSTART;VALUE=DATE:20201223
DTEND;VALUE=DATE:20201224
DTSTAMP:20260425T112550
CREATED:20190710T002937Z
LAST-MODIFIED:20190710T002937Z
UID:840-1608681600-1608767999@www.fbcplumgrove.church
SUMMARY:***No Activities***
DESCRIPTION:
URL:https://www.fbcplumgrove.church/calendar/no-activities-4/
END:VEVENT
BEGIN:VEVENT
DTSTART;VALUE=DATE:20201125
DTEND;VALUE=DATE:20201126
DTSTAMP:20260425T112550
CREATED:20190710T003157Z
LAST-MODIFIED:20190710T003157Z
UID:842-1606262400-1606348799@www.fbcplumgrove.church
SUMMARY:***No Activities***
DESCRIPTION:
URL:https://www.fbcplumgrove.church/calendar/no-activities-5/
END:VEVENT
BEGIN:VEVENT
DTSTART;VALUE=DATE:20200726
DTEND;VALUE=DATE:20200730
DTSTAMP:20260425T112550
CREATED:20200121T170901Z
LAST-MODIFIED:20200121T170901Z
UID:1006-1595721600-1596067199@www.fbcplumgrove.church
SUMMARY:Pre-Teen Camp
DESCRIPTION:KLK (Kids Life Kamp) thru TEBA Pre-Teen Camp \nPre-Teen Camp July 26 – 29\, 2020 \nCompleted 3rd – 6th grade \nNon refundable deposit of $50.00 due by April 26th. \nTotal cost $200.00 for FBCPG member \n$250.00 for Guest Students \n(Same camp location as in the past) \n 
URL:https://www.fbcplumgrove.church/calendar/pre-teen-camp/
END:VEVENT
BEGIN:VEVENT
DTSTART;TZID=UTC:20200712T180000
DTEND;TZID=UTC:20200716T210000
DTSTAMP:20260425T112550
CREATED:20190710T001018Z
LAST-MODIFIED:20190710T001018Z
UID:831-1594576800-1594933200@www.fbcplumgrove.church
SUMMARY:VBS
DESCRIPTION:
URL:https://www.fbcplumgrove.church/calendar/vbs/
END:VEVENT
BEGIN:VEVENT
DTSTART;VALUE=DATE:20200614
DTEND;VALUE=DATE:20200621
DTSTAMP:20260425T112550
CREATED:20190710T001514Z
LAST-MODIFIED:20190710T002219Z
UID:834-1592092800-1592697599@www.fbcplumgrove.church
SUMMARY:Mission Trip
DESCRIPTION:
URL:https://www.fbcplumgrove.church/calendar/mission-trip/
END:VEVENT
BEGIN:VEVENT
DTSTART;TZID=UTC:20200524T080000
DTEND;TZID=UTC:20200530T170000
DTSTAMP:20260425T112550
CREATED:20200428T164235Z
LAST-MODIFIED:20200428T164740Z
UID:1085-1590307200-1590858000@www.fbcplumgrove.church
SUMMARY:Deacon on Call
DESCRIPTION:Jason Wiggins on call this week 281-923-5322
URL:https://www.fbcplumgrove.church/calendar/deacon-on-call-5/
END:VEVENT
BEGIN:VEVENT
DTSTART;TZID=UTC:20200425T070000
DTEND;TZID=UTC:20200425T140000
DTSTAMP:20260425T112550
CREATED:20200311T145826Z
LAST-MODIFIED:20200311T145826Z
UID:1033-1587798000-1587823200@www.fbcplumgrove.church
SUMMARY:Heavy Haul Off
DESCRIPTION:Haul off heavy trash from demo day. Information see Doug Thomas
URL:https://www.fbcplumgrove.church/calendar/heavy-haul-off/
END:VEVENT
BEGIN:VEVENT
DTSTART;VALUE=DATE:20200419
DTEND;VALUE=DATE:20200426
DTSTAMP:20260425T112550
CREATED:20200402T143228Z
LAST-MODIFIED:20200402T143518Z
UID:1056-1587254400-1587859199@www.fbcplumgrove.church
SUMMARY:Deacon on call
DESCRIPTION:Jason Wiggins Deacon on call this week can reach at 281-923-5322
URL:https://www.fbcplumgrove.church/calendar/deacon-on-call/
END:VEVENT
BEGIN:VEVENT
DTSTART;TZID=UTC:20200418T080000
DTEND;TZID=UTC:20200418T140000
DTSTAMP:20260425T112550
CREATED:20200311T145611Z
LAST-MODIFIED:20200311T145611Z
UID:1031-1587196800-1587218400@www.fbcplumgrove.church
SUMMARY:Demo Day
DESCRIPTION:Demo inside of old church/youth building \nInformation see Doug Thomas
URL:https://www.fbcplumgrove.church/calendar/demo-day/
END:VEVENT
BEGIN:VEVENT
DTSTART;TZID=UTC:20200412T073000
DTEND;TZID=UTC:20200412T120000
DTSTAMP:20260425T112550
CREATED:20200225T171059Z
LAST-MODIFIED:20200225T171059Z
UID:1020-1586676600-1586692800@www.fbcplumgrove.church
SUMMARY:Easter Sunday
DESCRIPTION:7:30-8:30 Sunrise Service\, 8:30-9:30 Breakfast\, 9:45-10:45 Bible Study\, 11-12 Worship
URL:https://www.fbcplumgrove.church/calendar/easter-sunday/
END:VEVENT
BEGIN:VEVENT
DTSTART;VALUE=DATE:20200412
DTEND;VALUE=DATE:20200419
DTSTAMP:20260425T112550
CREATED:20200402T143822Z
LAST-MODIFIED:20200402T143822Z
UID:1061-1586649600-1587254399@www.fbcplumgrove.church
SUMMARY:Deacon on call
DESCRIPTION:Doug Thomas can be reached at 281-543-1094
URL:https://www.fbcplumgrove.church/calendar/deacon-on-call-2/
END:VEVENT
BEGIN:VEVENT
DTSTART;VALUE=DATE:20200412
DTEND;VALUE=DATE:20200413
DTSTAMP:20260425T112550
CREATED:20190710T003526Z
LAST-MODIFIED:20190710T003526Z
UID:844-1586649600-1586735999@www.fbcplumgrove.church
SUMMARY:Easter
DESCRIPTION:
URL:https://www.fbcplumgrove.church/calendar/easter/
END:VEVENT
BEGIN:VEVENT
DTSTART;VALUE=DATE:20200405
DTEND;VALUE=DATE:20200412
DTSTAMP:20260425T112550
CREATED:20200402T144127Z
LAST-MODIFIED:20200402T144127Z
UID:1065-1586044800-1586649599@www.fbcplumgrove.church
SUMMARY:Deacon on call
DESCRIPTION:Dave Hudson can be reached at 832-477-8657
URL:https://www.fbcplumgrove.church/calendar/deacon-on-call-4/
END:VEVENT
BEGIN:VEVENT
DTSTART;TZID=UTC:20200404T110000
DTEND;TZID=UTC:20200404T160000
DTSTAMP:20260425T112550
CREATED:20200311T145130Z
LAST-MODIFIED:20200311T145130Z
UID:1027-1585998000-1586016000@www.fbcplumgrove.church
SUMMARY:Church Outreach
DESCRIPTION:Mission out reach\, see Jose for more information
URL:https://www.fbcplumgrove.church/calendar/church-outreach/
END:VEVENT
BEGIN:VEVENT
DTSTART;TZID=UTC:20200404T080000
DTEND;TZID=UTC:20200404T120000
DTSTAMP:20260425T112550
CREATED:20200311T145430Z
LAST-MODIFIED:20200311T145430Z
UID:1029-1585987200-1586001600@www.fbcplumgrove.church
SUMMARY:Work Day
DESCRIPTION:General maintenance\, Doug Thomas for information
URL:https://www.fbcplumgrove.church/calendar/work-day/
END:VEVENT
BEGIN:VEVENT
DTSTART;VALUE=DATE:20200329
DTEND;VALUE=DATE:20200405
DTSTAMP:20260425T112550
CREATED:20200402T144026Z
LAST-MODIFIED:20200402T144026Z
UID:1063-1585440000-1586044799@www.fbcplumgrove.church
SUMMARY:Deacon on call
DESCRIPTION:Ron Gober can be reached at 281-731-3628
URL:https://www.fbcplumgrove.church/calendar/deacon-on-call-3/
END:VEVENT
BEGIN:VEVENT
DTSTART;TZID=UTC:20200322T080000
DTEND;TZID=UTC:20200328T170000
DTSTAMP:20260425T112550
CREATED:20200323T143028Z
LAST-MODIFIED:20200323T143028Z
UID:1047-1584864000-1585414800@www.fbcplumgrove.church
SUMMARY:Deacon on call this week
DESCRIPTION:Deacon on rotation this week: Michael Brawn \nHe can be reached at 281-733-0491
URL:https://www.fbcplumgrove.church/calendar/deacon-on-call-this-week/
END:VEVENT
BEGIN:VEVENT
DTSTART;TZID=UTC:20200318T173000
DTEND;TZID=UTC:20200318T203000
DTSTAMP:20260425T112550
CREATED:20200316T174511Z
LAST-MODIFIED:20200316T174511Z
UID:1039-1584552600-1584563400@www.fbcplumgrove.church
SUMMARY:Evening Events
DESCRIPTION:All evening events for 3-18-2020 have been canceled as a safety precaution. \nIf you have questions\, prayer requests\, or other concern please feel free to contact anyone on staff.
URL:https://www.fbcplumgrove.church/calendar/evening-events/
END:VEVENT
BEGIN:VEVENT
DTSTART;VALUE=DATE:20200318
DTEND;VALUE=DATE:20200319
DTSTAMP:20260425T112550
CREATED:20200315T171832Z
LAST-MODIFIED:20200315T171832Z
UID:1037-1584489600-1584575999@www.fbcplumgrove.church
SUMMARY:***No Activities/Service***
DESCRIPTION:
URL:https://www.fbcplumgrove.church/calendar/no-activities-service/
END:VEVENT
BEGIN:VEVENT
DTSTART;TZID=UTC:20200315T110000
DTEND;TZID=UTC:20200315T120000
DTSTAMP:20260425T112550
CREATED:20200311T150203Z
LAST-MODIFIED:20200311T150203Z
UID:1035-1584270000-1584273600@www.fbcplumgrove.church
SUMMARY:Baby Dedication
DESCRIPTION:Baby/Child dedication\, to be included contact church office 281-689-7696
URL:https://www.fbcplumgrove.church/calendar/baby-dedication-2/
END:VEVENT
BEGIN:VEVENT
DTSTART;TZID=UTC:20200311T174500
DTEND;TZID=UTC:20200311T183000
DTSTAMP:20260425T112550
CREATED:20200311T144825Z
LAST-MODIFIED:20200311T144825Z
UID:1025-1583948700-1583951400@www.fbcplumgrove.church
SUMMARY:Dinner tonight
DESCRIPTION:Pork roast\, mashed potatoes\, gravy\, green beans\, corn and ice cream
URL:https://www.fbcplumgrove.church/calendar/dinner-tonight-11/
END:VEVENT
BEGIN:VEVENT
DTSTART;TZID=UTC:20200308T110000
DTEND;TZID=UTC:20200308T120000
DTSTAMP:20260425T112550
CREATED:20200225T170850Z
LAST-MODIFIED:20200225T170850Z
UID:1018-1583665200-1583668800@www.fbcplumgrove.church
SUMMARY:Dedication Baby ~ Child
DESCRIPTION:Contact church office to be included or for questions 281-689-7696
URL:https://www.fbcplumgrove.church/calendar/dedication-baby-child/
END:VEVENT
BEGIN:VEVENT
DTSTART;TZID=UTC:20200304T174500
DTEND;TZID=UTC:20200304T183000
DTSTAMP:20260425T112550
CREATED:20200304T191704Z
LAST-MODIFIED:20200304T191704Z
UID:1022-1583343900-1583346600@www.fbcplumgrove.church
SUMMARY:Dinner Tonight
DESCRIPTION:Beef (hamburger) Stroganoff\, green beans & dessert
URL:https://www.fbcplumgrove.church/calendar/dinner-tonight-10/
END:VEVENT
BEGIN:VEVENT
DTSTART;TZID=UTC:20200216T120000
DTEND;TZID=UTC:20200216T140000
DTSTAMP:20260425T112550
CREATED:20190710T004028Z
LAST-MODIFIED:20190724T143658Z
UID:846-1581854400-1581861600@www.fbcplumgrove.church
SUMMARY:Valentine Banquet
DESCRIPTION:
URL:https://www.fbcplumgrove.church/calendar/valentine-banquet/
END:VEVENT
BEGIN:VEVENT
DTSTART;TZID=UTC:20200216T110000
DTEND;TZID=UTC:20200216T120000
DTSTAMP:20260425T112550
CREATED:20191120T150823Z
LAST-MODIFIED:20191120T150823Z
UID:976-1581850800-1581854400@www.fbcplumgrove.church
SUMMARY:Combined Worship Service
DESCRIPTION:
URL:https://www.fbcplumgrove.church/calendar/combined-worship-service-4/
END:VEVENT
BEGIN:VEVENT
DTSTART;VALUE=DATE:20200214
DTEND;VALUE=DATE:20200216
DTSTAMP:20260425T112550
CREATED:20190723T151645Z
LAST-MODIFIED:20190724T144207Z
UID:858-1581638400-1581811199@www.fbcplumgrove.church
SUMMARY:Brown - Private Event
DESCRIPTION:
URL:https://www.fbcplumgrove.church/calendar/brown-private-event/
END:VEVENT
BEGIN:VEVENT
DTSTART;TZID=UTC:20200206T093000
DTEND;TZID=UTC:20200206T130000
DTSTAMP:20260425T112550
CREATED:20200121T170047Z
LAST-MODIFIED:20200121T170047Z
UID:1004-1580981400-1580994000@www.fbcplumgrove.church
SUMMARY:Sr. Plums
DESCRIPTION:     Sr Plum’s meeting on Feb.6th at 9:30AM \nEveryone is invited to come join our Senior fellowship and share our meal.                                                                                  Sausage & Potato soup with cornbread will be provided.
URL:https://www.fbcplumgrove.church/calendar/sr-plums-2/
END:VEVENT
BEGIN:VEVENT
DTSTART;TZID=UTC:20200205T174500
DTEND;TZID=UTC:20200205T183000
DTSTAMP:20260425T112550
CREATED:20200203T172304Z
LAST-MODIFIED:20200203T172304Z
UID:1014-1580924700-1580927400@www.fbcplumgrove.church
SUMMARY:Dinner tonight
DESCRIPTION:Stuffed baked Potato\, dessert
URL:https://www.fbcplumgrove.church/calendar/dinner-tonight-9/
END:VEVENT
BEGIN:VEVENT
DTSTART;TZID=UTC:20200122T173000
DTEND;TZID=UTC:20200122T183000
DTSTAMP:20260425T112550
CREATED:20200109T193759Z
LAST-MODIFIED:20200109T193759Z
UID:999-1579714200-1579717800@www.fbcplumgrove.church
SUMMARY:Wednesday Dinner
DESCRIPTION:Chicken soup & grilled cheese sandwich\, dessert
URL:https://www.fbcplumgrove.church/calendar/wednesday-dinner-2/
END:VEVENT
END:VCALENDAR