BEGIN:VCALENDAR
VERSION:2.0
PRODID:-//FBC Plum Grove - ECPv6.15.3//NONSGML v1.0//EN
CALSCALE:GREGORIAN
METHOD:PUBLISH
X-WR-CALNAME:FBC Plum Grove
X-ORIGINAL-URL:https://www.fbcplumgrove.church
X-WR-CALDESC:Events for FBC Plum Grove
REFRESH-INTERVAL;VALUE=DURATION:PT1H
X-Robots-Tag:noindex
X-PUBLISHED-TTL:PT1H
BEGIN:VTIMEZONE
TZID:UTC
BEGIN:STANDARD
TZOFFSETFROM:+0000
TZOFFSETTO:+0000
TZNAME:UTC
DTSTART:20190101T000000
END:STANDARD
END:VTIMEZONE
BEGIN:VEVENT
DTSTART;TZID=UTC:20191116T180000
DTEND;TZID=UTC:20191116T200000
DTSTAMP:20260425T113219
CREATED:20191021T135810Z
LAST-MODIFIED:20191021T135810Z
UID:941-1573927200-1573934400@www.fbcplumgrove.church
SUMMARY:Adult 1 Fellowship
DESCRIPTION:Details in class
URL:https://www.fbcplumgrove.church/calendar/adult-1-fellowship/
END:VEVENT
BEGIN:VEVENT
DTSTART;TZID=UTC:20191113T174500
DTEND;TZID=UTC:20191113T184500
DTSTAMP:20260425T113219
CREATED:20191022T183106Z
LAST-MODIFIED:20191022T183106Z
UID:948-1573667100-1573670700@www.fbcplumgrove.church
SUMMARY:Dinner tonight
DESCRIPTION:International eats meat loaf\, green beans\, dessert
URL:https://www.fbcplumgrove.church/calendar/dinner-tonight-7/
END:VEVENT
BEGIN:VEVENT
DTSTART;TZID=UTC:20191110T121500
DTEND;TZID=UTC:20191110T133000
DTSTAMP:20260425T113219
CREATED:20191014T141624Z
LAST-MODIFIED:20191014T141624Z
UID:921-1573388100-1573392600@www.fbcplumgrove.church
SUMMARY:Sunday School Teachers meeting
DESCRIPTION:Follow up meeting\, Who’s Your One?
URL:https://www.fbcplumgrove.church/calendar/sunday-school-teachers-meeting-2/
END:VEVENT
BEGIN:VEVENT
DTSTART;TZID=UTC:20191106T174500
DTEND;TZID=UTC:20191106T184500
DTSTAMP:20260425T113219
CREATED:20191022T182859Z
LAST-MODIFIED:20191022T182859Z
UID:946-1573062300-1573065900@www.fbcplumgrove.church
SUMMARY:Dinner tonight
DESCRIPTION:Crispy Taco’s
URL:https://www.fbcplumgrove.church/calendar/dinner-tonight-6/
END:VEVENT
BEGIN:VEVENT
DTSTART;TZID=UTC:20191105T070000
DTEND;TZID=UTC:20191105T190000
DTSTAMP:20260425T113219
CREATED:20190808T154855Z
LAST-MODIFIED:20190808T154855Z
UID:885-1572937200-1572980400@www.fbcplumgrove.church
SUMMARY:Liberty County Poling Booth
DESCRIPTION:Voting booth for Liberty County
URL:https://www.fbcplumgrove.church/calendar/liberty-county-poling-booth/
END:VEVENT
BEGIN:VEVENT
DTSTART;TZID=UTC:20191031T180000
DTEND;TZID=UTC:20191031T203000
DTSTAMP:20260425T113219
CREATED:20190416T121109Z
LAST-MODIFIED:20190416T121109Z
UID:776-1572544800-1572553800@www.fbcplumgrove.church
SUMMARY:Fall Festival
DESCRIPTION:
URL:https://www.fbcplumgrove.church/calendar/fall-festival/
END:VEVENT
BEGIN:VEVENT
DTSTART;TZID=UTC:20191030T150000
DTEND;TZID=UTC:20191030T200000
DTSTAMP:20260425T113219
CREATED:20191029T142453Z
LAST-MODIFIED:20191029T142453Z
UID:957-1572447600-1572465600@www.fbcplumgrove.church
SUMMARY:Fall Festival Prep
DESCRIPTION:Building will be open for workers to set-up booths for Fall Fest. 3-8PM Wednesday evening.
URL:https://www.fbcplumgrove.church/calendar/fall-festival-prep/
END:VEVENT
BEGIN:VEVENT
DTSTART;VALUE=DATE:20191030
DTEND;VALUE=DATE:20191031
DTSTAMP:20260425T113219
CREATED:20190721T223715Z
LAST-MODIFIED:20190721T223715Z
UID:854-1572393600-1572479999@www.fbcplumgrove.church
SUMMARY:***No Activities***
DESCRIPTION:No regular scheduled activities \nChurch open for Fall Festival setup.
URL:https://www.fbcplumgrove.church/calendar/no-activities-6/
END:VEVENT
BEGIN:VEVENT
DTSTART;TZID=UTC:20191023T174500
DTEND;TZID=UTC:20191023T184500
DTSTAMP:20260425T113219
CREATED:20191015T170211Z
LAST-MODIFIED:20191015T170211Z
UID:930-1571852700-1571856300@www.fbcplumgrove.church
SUMMARY:Dinner tonight
DESCRIPTION:Taco Soup & dessert
URL:https://www.fbcplumgrove.church/calendar/dinner-tonight-5/
END:VEVENT
BEGIN:VEVENT
DTSTART;TZID=UTC:20191020T110000
DTEND;TZID=UTC:20191020T120000
DTSTAMP:20260425T113219
CREATED:20191015T234117Z
LAST-MODIFIED:20191015T234134Z
UID:932-1571569200-1571572800@www.fbcplumgrove.church
SUMMARY:Combined Worship
DESCRIPTION:
URL:https://www.fbcplumgrove.church/calendar/combined-aorship/
END:VEVENT
BEGIN:VEVENT
DTSTART;TZID=UTC:20191020T110000
DTEND;TZID=UTC:20191020T120000
DTSTAMP:20260425T113219
CREATED:20190416T115741Z
LAST-MODIFIED:20190416T115741Z
UID:764-1571569200-1571572800@www.fbcplumgrove.church
SUMMARY:Lord's Supper
DESCRIPTION:
URL:https://www.fbcplumgrove.church/calendar/lords-supper-4/
END:VEVENT
BEGIN:VEVENT
DTSTART;TZID=UTC:20191016T174500
DTEND;TZID=UTC:20191016T183000
DTSTAMP:20260425T113219
CREATED:20191009T145712Z
LAST-MODIFIED:20191009T145712Z
UID:917-1571247900-1571250600@www.fbcplumgrove.church
SUMMARY:Dinner tonight
DESCRIPTION:Smorgasbord and dessert
URL:https://www.fbcplumgrove.church/calendar/dinner-tonight-4/
END:VEVENT
BEGIN:VEVENT
DTSTART;TZID=UTC:20191009T200000
DTEND;TZID=UTC:20191009T203000
DTSTAMP:20260425T113219
CREATED:20190416T120940Z
LAST-MODIFIED:20190416T121419Z
UID:774-1570651200-1570653000@www.fbcplumgrove.church
SUMMARY:QTR. Business Meeting
DESCRIPTION:
URL:https://www.fbcplumgrove.church/calendar/qtr-business-meeting-2/
END:VEVENT
BEGIN:VEVENT
DTSTART;TZID=UTC:20191009T174500
DTEND;TZID=UTC:20191009T184500
DTSTAMP:20260425T113219
CREATED:20190923T152548Z
LAST-MODIFIED:20190923T153012Z
UID:905-1570643100-1570646700@www.fbcplumgrove.church
SUMMARY:Dinner tonight
DESCRIPTION:Meatball sub’s w/chips\, orange creamsicle slab pie
URL:https://www.fbcplumgrove.church/calendar/dinner-tonight/
END:VEVENT
BEGIN:VEVENT
DTSTART;TZID=UTC:20191005T160000
DTEND;TZID=UTC:20191005T210000
DTSTAMP:20260425T113219
CREATED:20190806T150720Z
LAST-MODIFIED:20190806T150720Z
UID:883-1570291200-1570309200@www.fbcplumgrove.church
SUMMARY:Sr. Plum's Liberty Opry
DESCRIPTION:Sr. Plum’s Day Trip\, Liberty Opry – Blackwood Quartet \nOctober 5 at 4:00PM $25. each\, RSVP to Susan by Sept 15th 281-467-7814 \nEveryone is invited!
URL:https://www.fbcplumgrove.church/calendar/sr-plums-liberty-opry/
END:VEVENT
BEGIN:VEVENT
DTSTART;TZID=UTC:20191002T174500
DTEND;TZID=UTC:20191002T184500
DTSTAMP:20260425T113219
CREATED:20190926T142815Z
LAST-MODIFIED:20190926T142815Z
UID:912-1570038300-1570041900@www.fbcplumgrove.church
SUMMARY:Dinner tonight
DESCRIPTION:Hamburger Stroganoff\, green beans and brownies
URL:https://www.fbcplumgrove.church/calendar/dinner-tonight-3/
END:VEVENT
BEGIN:VEVENT
DTSTART;TZID=UTC:20190928T100000
DTEND;TZID=UTC:20190928T170000
DTSTAMP:20260425T113219
CREATED:20190812T161310Z
LAST-MODIFIED:20190812T161310Z
UID:888-1569664800-1569690000@www.fbcplumgrove.church
SUMMARY:Moore Private Event
DESCRIPTION:
URL:https://www.fbcplumgrove.church/calendar/moore-private-event-2/
END:VEVENT
BEGIN:VEVENT
DTSTART;TZID=UTC:20190925T174500
DTEND;TZID=UTC:20190925T184500
DTSTAMP:20260425T113219
CREATED:20190923T153313Z
LAST-MODIFIED:20190923T153313Z
UID:910-1569433500-1569437100@www.fbcplumgrove.church
SUMMARY:Dinner tonight
DESCRIPTION:Sauce Piquant w chicken\, rice green salad and dessert
URL:https://www.fbcplumgrove.church/calendar/dinner-tonight-2/
END:VEVENT
BEGIN:VEVENT
DTSTART;TZID=UTC:20190925T073000
DTEND;TZID=UTC:20190925T080000
DTSTAMP:20260425T113219
CREATED:20190729T184940Z
LAST-MODIFIED:20190729T184940Z
UID:871-1569396600-1569398400@www.fbcplumgrove.church
SUMMARY:See You At The Pole
DESCRIPTION:Per each District
URL:https://www.fbcplumgrove.church/calendar/see-you-at-the-pole/
END:VEVENT
BEGIN:VEVENT
DTSTART;TZID=UTC:20190915T083000
DTEND;TZID=UTC:20190915T093000
DTSTAMP:20260425T113219
CREATED:20190813T170826Z
LAST-MODIFIED:20190813T170826Z
UID:894-1568536200-1568539800@www.fbcplumgrove.church
SUMMARY:Sunday School Breakfast
DESCRIPTION:Sunday School Breakfast
URL:https://www.fbcplumgrove.church/calendar/sunday-school-breakfast/
END:VEVENT
BEGIN:VEVENT
DTSTART;TZID=UTC:20190911T173000
DTEND;TZID=UTC:20190911T183000
DTSTAMP:20260425T113219
CREATED:20190827T163148Z
LAST-MODIFIED:20190827T163148Z
UID:902-1568223000-1568226600@www.fbcplumgrove.church
SUMMARY:Tonight's meal
DESCRIPTION:Penne paste w/Chicken\, salad and cake
URL:https://www.fbcplumgrove.church/calendar/tonights-meal-4/
END:VEVENT
BEGIN:VEVENT
DTSTART;TZID=UTC:20190908T123000
DTEND;TZID=UTC:20190908T140000
DTSTAMP:20260425T113219
CREATED:20190813T170614Z
LAST-MODIFIED:20190813T170614Z
UID:892-1567945800-1567951200@www.fbcplumgrove.church
SUMMARY:Sunday School Teachers Meeting
DESCRIPTION:Meeting for all Sunday School teachers following service\, lunch provided. \nPlease RSVP attendance. 12:30PM – 2:00PMish
URL:https://www.fbcplumgrove.church/calendar/sunday-school-teachers-meeting/
END:VEVENT
BEGIN:VEVENT
DTSTART;TZID=UTC:20190904T173000
DTEND;TZID=UTC:20190904T173000
DTSTAMP:20260425T113219
CREATED:20190814T143154Z
LAST-MODIFIED:20190819T140941Z
UID:896-1567618200-1567618200@www.fbcplumgrove.church
SUMMARY:Tonight's meal
DESCRIPTION:Green chili burros\, rice and beans
URL:https://www.fbcplumgrove.church/calendar/tonights-meal-3/
END:VEVENT
BEGIN:VEVENT
DTSTART;VALUE=DATE:20190902
DTEND;VALUE=DATE:20190903
DTSTAMP:20260425T113219
CREATED:20190729T184702Z
LAST-MODIFIED:20190729T184823Z
UID:868-1567382400-1567468799@www.fbcplumgrove.church
SUMMARY:Observe Labor Day
DESCRIPTION:Church office closed
URL:https://www.fbcplumgrove.church/calendar/observe-labor-day/
END:VEVENT
BEGIN:VEVENT
DTSTART;TZID=UTC:20190828T173000
DTEND;TZID=UTC:20190828T183000
DTSTAMP:20260425T113219
CREATED:20190820T182946Z
LAST-MODIFIED:20190820T183157Z
UID:898-1567013400-1567017000@www.fbcplumgrove.church
SUMMARY:Tonight's Meal
DESCRIPTION:Sauce Picant & Chicken\, green salad
URL:https://www.fbcplumgrove.church/calendar/tonights-supper/
END:VEVENT
BEGIN:VEVENT
DTSTART;TZID=UTC:20190824T100000
DTEND;TZID=UTC:20190824T180000
DTSTAMP:20260425T113219
CREATED:20190725T144641Z
LAST-MODIFIED:20190729T133853Z
UID:864-1566640800-1566669600@www.fbcplumgrove.church
SUMMARY:Moore - Private Event
DESCRIPTION:
URL:https://www.fbcplumgrove.church/calendar/moore-private-event/
END:VEVENT
BEGIN:VEVENT
DTSTART;TZID=UTC:20190821T200000
DTEND;TZID=UTC:20190821T203000
DTSTAMP:20260425T113219
CREATED:20190803T193728Z
LAST-MODIFIED:20190803T193754Z
UID:879-1566417600-1566419400@www.fbcplumgrove.church
SUMMARY:Parent Meeting
DESCRIPTION:Parent meeting for parents of youth right after Wednesday Service. About 15 minutes long\, will cover events for next semester.
URL:https://www.fbcplumgrove.church/calendar/parent-meeting/
END:VEVENT
BEGIN:VEVENT
DTSTART;TZID=UTC:20190821T173000
DTEND;TZID=UTC:20190821T183000
DTSTAMP:20260425T113219
CREATED:20190801T222154Z
LAST-MODIFIED:20190801T222154Z
UID:877-1566408600-1566412200@www.fbcplumgrove.church
SUMMARY:Tonight's Meal
DESCRIPTION:Chop beef sandwiches\, beans\, potato salad
URL:https://www.fbcplumgrove.church/calendar/tonights-meal-2/
END:VEVENT
BEGIN:VEVENT
DTSTART;TZID=UTC:20190818T110000
DTEND;TZID=UTC:20190818T120000
DTSTAMP:20260425T113219
CREATED:20190416T115617Z
LAST-MODIFIED:20190508T144643Z
UID:762-1566126000-1566129600@www.fbcplumgrove.church
SUMMARY:Lord's Supper
DESCRIPTION:
URL:https://www.fbcplumgrove.church/calendar/lords-supper-3/
END:VEVENT
BEGIN:VEVENT
DTSTART;TZID=UTC:20190814T173000
DTEND;TZID=UTC:20190814T183000
DTSTAMP:20260425T113219
CREATED:20190801T222014Z
LAST-MODIFIED:20190801T222014Z
UID:875-1565803800-1565807400@www.fbcplumgrove.church
SUMMARY:Tonight's Meal
DESCRIPTION:Fish Tacos\, rice\, beans and fruit salad.
URL:https://www.fbcplumgrove.church/calendar/tonights-meal/
END:VEVENT
END:VCALENDAR