BEGIN:VCALENDAR
VERSION:2.0
PRODID:-//FBC Plum Grove - ECPv6.15.3//NONSGML v1.0//EN
CALSCALE:GREGORIAN
METHOD:PUBLISH
X-WR-CALNAME:FBC Plum Grove
X-ORIGINAL-URL:https://www.fbcplumgrove.church
X-WR-CALDESC:Events for FBC Plum Grove
REFRESH-INTERVAL;VALUE=DURATION:PT1H
X-Robots-Tag:noindex
X-PUBLISHED-TTL:PT1H
BEGIN:VTIMEZONE
TZID:UTC
BEGIN:STANDARD
TZOFFSETFROM:+0000
TZOFFSETTO:+0000
TZNAME:UTC
DTSTART:20240101T000000
END:STANDARD
END:VTIMEZONE
BEGIN:VEVENT
DTSTART;TZID=UTC:20251008T200000
DTEND;TZID=UTC:20251008T203000
DTSTAMP:20260423T223138
CREATED:20251003T230737Z
LAST-MODIFIED:20251003T230737Z
UID:1936-1759953600-1759955400@www.fbcplumgrove.church
SUMMARY:Quarterly Business Meeting
DESCRIPTION:
URL:https://www.fbcplumgrove.church/calendar/quarterly-business-meeting-6/
END:VEVENT
BEGIN:VEVENT
DTSTART;TZID=UTC:20251002T130000
DTEND;TZID=UTC:20251002T140000
DTSTAMP:20260423T223138
CREATED:20250921T175950Z
LAST-MODIFIED:20251015T233353Z
UID:1774-1759410000-1759413600@www.fbcplumgrove.church
SUMMARY:Women's Bible Study @ FBCPG
DESCRIPTION:
URL:https://www.fbcplumgrove.church/calendar/women-bible-study-susans-house/
END:VEVENT
BEGIN:VEVENT
DTSTART;TZID=UTC:20251001T180000
DTEND;TZID=UTC:20251001T190000
DTSTAMP:20260423T223138
CREATED:20250921T175553Z
LAST-MODIFIED:20250921T210017Z
UID:1767-1759341600-1759345200@www.fbcplumgrove.church
SUMMARY:Women's Evening Bible Study
DESCRIPTION:
URL:https://www.fbcplumgrove.church/calendar/women-bible-study/
END:VEVENT
BEGIN:VEVENT
DTSTART;TZID=UTC:20250921T123000
DTEND;TZID=UTC:20250921T143000
DTSTAMP:20260423T223138
CREATED:20250921T192527Z
LAST-MODIFIED:20250921T210045Z
UID:1859-1758457800-1758465000@www.fbcplumgrove.church
SUMMARY:Women's Arts & Crafts
DESCRIPTION:
URL:https://www.fbcplumgrove.church/calendar/women-ministry-arts-crafts-4/
END:VEVENT
BEGIN:VEVENT
DTSTART;TZID=UTC:20250921T123000
DTEND;TZID=UTC:20250921T140000
DTSTAMP:20260423T223138
CREATED:20250919T210742Z
LAST-MODIFIED:20250919T210742Z
UID:1761-1758457800-1758463200@www.fbcplumgrove.church
SUMMARY:Leadership Meeting
DESCRIPTION:
URL:https://www.fbcplumgrove.church/calendar/leadership-meeting-4/
END:VEVENT
BEGIN:VEVENT
DTSTART;TZID=UTC:20250903T180000
DTEND;TZID=UTC:20250903T190000
DTSTAMP:20260423T223138
CREATED:20250528T145312Z
LAST-MODIFIED:20250921T205651Z
UID:1662-1756922400-1756926000@www.fbcplumgrove.church
SUMMARY:Women's Evening Bible Study
DESCRIPTION:
URL:https://www.fbcplumgrove.church/calendar/womens-ministry-evening-bible-study-4/
END:VEVENT
BEGIN:VEVENT
DTSTART;TZID=UTC:20250806T180000
DTEND;TZID=UTC:20250806T190000
DTSTAMP:20260423T223138
CREATED:20250528T145103Z
LAST-MODIFIED:20250921T205658Z
UID:1658-1754503200-1754506800@www.fbcplumgrove.church
SUMMARY:Women's Evening Bible Study
DESCRIPTION:
URL:https://www.fbcplumgrove.church/calendar/womens-ministry-evening-bible-study-3/
END:VEVENT
BEGIN:VEVENT
DTSTART;TZID=UTC:20250713T060000
DTEND;TZID=UTC:20250717T090000
DTSTAMP:20260423T223138
CREATED:20241020T144140Z
LAST-MODIFIED:20241020T144140Z
UID:1591-1752386400-1752742800@www.fbcplumgrove.church
SUMMARY:VBS
DESCRIPTION:
URL:https://www.fbcplumgrove.church/calendar/vbs-6/
END:VEVENT
BEGIN:VEVENT
DTSTART;TZID=UTC:20250707T130000
DTEND;TZID=UTC:20250711T120000
DTSTAMP:20260423T223138
CREATED:20241113T170016Z
LAST-MODIFIED:20250518T110041Z
UID:1603-1751893200-1752235200@www.fbcplumgrove.church
SUMMARY:Girls & Boys Camp
DESCRIPTION:
URL:https://www.fbcplumgrove.church/calendar/girls-boys-camp/
END:VEVENT
BEGIN:VEVENT
DTSTART;TZID=UTC:20250702T180000
DTEND;TZID=UTC:20250702T190000
DTSTAMP:20260423T223138
CREATED:20250528T145026Z
LAST-MODIFIED:20250921T205704Z
UID:1656-1751479200-1751482800@www.fbcplumgrove.church
SUMMARY:Women's Evening Bible Study
DESCRIPTION:
URL:https://www.fbcplumgrove.church/calendar/womens-ministry-evening-bible-study-2/
END:VEVENT
BEGIN:VEVENT
DTSTART;TZID=UTC:20250615T120000
DTEND;TZID=UTC:20250615T140000
DTSTAMP:20260423T223138
CREATED:20250118T110717Z
LAST-MODIFIED:20250118T110717Z
UID:1627-1749988800-1749996000@www.fbcplumgrove.church
SUMMARY:Father's Day Lunch
DESCRIPTION:
URL:https://www.fbcplumgrove.church/calendar/fathers-day-lunch/
END:VEVENT
BEGIN:VEVENT
DTSTART;TZID=UTC:20250608T080000
DTEND;TZID=UTC:20250615T170000
DTSTAMP:20260423T223138
CREATED:20241007T090818Z
LAST-MODIFIED:20241007T090818Z
UID:1580-1749369600-1750006800@www.fbcplumgrove.church
SUMMARY:Youth Mission Trip
DESCRIPTION:
URL:https://www.fbcplumgrove.church/calendar/youth-mission-trip-2/
END:VEVENT
BEGIN:VEVENT
DTSTART;VALUE=DATE:20250606
DTEND;VALUE=DATE:20250607
DTSTAMP:20260423T223138
CREATED:20250513T172344Z
LAST-MODIFIED:20250513T172425Z
UID:1650-1749168000-1749254399@www.fbcplumgrove.church
SUMMARY:Cortes Family Wedding
DESCRIPTION:Will need gym and main sanctuary..
URL:https://www.fbcplumgrove.church/calendar/cortes-family-weddding/
END:VEVENT
BEGIN:VEVENT
DTSTART;TZID=UTC:20250604T180000
DTEND;TZID=UTC:20250604T190000
DTSTAMP:20260423T223138
CREATED:20250528T144919Z
LAST-MODIFIED:20250921T205712Z
UID:1654-1749060000-1749063600@www.fbcplumgrove.church
SUMMARY:Women's Evening Bible Study
DESCRIPTION:
URL:https://www.fbcplumgrove.church/calendar/womens-ministry-evening-bible-study/
END:VEVENT
BEGIN:VEVENT
DTSTART;TZID=UTC:20250522T160000
DTEND;TZID=UTC:20250522T190000
DTSTAMP:20260423T223138
CREATED:20250430T234206Z
LAST-MODIFIED:20250430T234206Z
UID:1647-1747929600-1747940400@www.fbcplumgrove.church
SUMMARY:C3 Bible Study
DESCRIPTION:
URL:https://www.fbcplumgrove.church/calendar/c3-bible-study/
END:VEVENT
BEGIN:VEVENT
DTSTART;TZID=UTC:20250518T120000
DTEND;TZID=UTC:20250518T140000
DTSTAMP:20260423T223138
CREATED:20250430T013709Z
LAST-MODIFIED:20250430T013709Z
UID:1643-1747569600-1747576800@www.fbcplumgrove.church
SUMMARY:Church Wide Meal Honoring Jose & Elsa
DESCRIPTION:
URL:https://www.fbcplumgrove.church/calendar/church-wide-meal-honoring-jose-elsa/
END:VEVENT
BEGIN:VEVENT
DTSTART;VALUE=DATE:20250510
DTEND;VALUE=DATE:20250511
DTSTAMP:20260423T223138
CREATED:20250430T013853Z
LAST-MODIFIED:20250430T013853Z
UID:1645-1746835200-1746921599@www.fbcplumgrove.church
SUMMARY:Private Event - Funeral
DESCRIPTION:
URL:https://www.fbcplumgrove.church/calendar/private-event-funeral/
END:VEVENT
BEGIN:VEVENT
DTSTART;TZID=UTC:20250420T083000
DTEND;TZID=UTC:20250420T093000
DTSTAMP:20260423T223138
CREATED:20250118T110444Z
LAST-MODIFIED:20250118T110444Z
UID:1623-1745137800-1745141400@www.fbcplumgrove.church
SUMMARY:Breakfast Fellowship
DESCRIPTION:
URL:https://www.fbcplumgrove.church/calendar/breakfast-fellowship/
END:VEVENT
BEGIN:VEVENT
DTSTART;TZID=UTC:20250420T073000
DTEND;TZID=UTC:20250420T083000
DTSTAMP:20260423T223138
CREATED:20250118T105138Z
LAST-MODIFIED:20250118T105138Z
UID:1613-1745134200-1745137800@www.fbcplumgrove.church
SUMMARY:Sunrise Service
DESCRIPTION:
URL:https://www.fbcplumgrove.church/calendar/sunrise-service-3/
END:VEVENT
BEGIN:VEVENT
DTSTART;TZID=UTC:20250419T113000
DTEND;TZID=UTC:20250419T150000
DTSTAMP:20260423T223138
CREATED:20250118T110058Z
LAST-MODIFIED:20250118T110058Z
UID:1621-1745062200-1745074800@www.fbcplumgrove.church
SUMMARY:Spring Festival
DESCRIPTION:
URL:https://www.fbcplumgrove.church/calendar/spring-festival-3/
END:VEVENT
BEGIN:VEVENT
DTSTART;VALUE=DATE:20250321
DTEND;VALUE=DATE:20250323
DTSTAMP:20260423T223138
CREATED:20250203T192758Z
LAST-MODIFIED:20250315T163326Z
UID:1634-1742515200-1742687999@www.fbcplumgrove.church
SUMMARY:(CANCELLED) Church Camping Day
DESCRIPTION:Overnight Camping at Church Property
URL:https://www.fbcplumgrove.church/calendar/church-camping-day/
END:VEVENT
BEGIN:VEVENT
DTSTART;TZID=UTC:20250214T183000
DTEND;TZID=UTC:20250214T203000
DTSTAMP:20260423T223138
CREATED:20250118T110005Z
LAST-MODIFIED:20250118T110005Z
UID:1619-1739557800-1739565000@www.fbcplumgrove.church
SUMMARY:Valentine Dinner - Everyone Welcome
DESCRIPTION:more details to come
URL:https://www.fbcplumgrove.church/calendar/valentine-dinner-everyone-welcome/
END:VEVENT
BEGIN:VEVENT
DTSTART;TZID=UTC:20250202T120000
DTEND;TZID=UTC:20250202T140000
DTSTAMP:20260423T223138
CREATED:20250118T105259Z
LAST-MODIFIED:20250118T105756Z
UID:1615-1738497600-1738504800@www.fbcplumgrove.church
SUMMARY:Lunch Fellowship Fish Fry
DESCRIPTION:
URL:https://www.fbcplumgrove.church/calendar/breakfast-in-gym/
END:VEVENT
BEGIN:VEVENT
DTSTART;VALUE=DATE:20250101
DTEND;VALUE=DATE:20250102
DTSTAMP:20260423T223138
CREATED:20241007T090444Z
LAST-MODIFIED:20241007T090444Z
UID:1578-1735689600-1735775999@www.fbcplumgrove.church
SUMMARY:No Activities
DESCRIPTION:
URL:https://www.fbcplumgrove.church/calendar/no-activities-14/
END:VEVENT
BEGIN:VEVENT
DTSTART;VALUE=DATE:20241225
DTEND;VALUE=DATE:20241226
DTSTAMP:20260423T223138
CREATED:20241007T090358Z
LAST-MODIFIED:20241007T090358Z
UID:1576-1735084800-1735171199@www.fbcplumgrove.church
SUMMARY:No Activities
DESCRIPTION:
URL:https://www.fbcplumgrove.church/calendar/no-activities-13/
END:VEVENT
BEGIN:VEVENT
DTSTART;TZID=UTC:20241219T120000
DTEND;TZID=UTC:20241219T210000
DTSTAMP:20260423T223138
CREATED:20241118T181509Z
LAST-MODIFIED:20241118T181509Z
UID:1608-1734609600-1734642000@www.fbcplumgrove.church
SUMMARY:Game Night/Movie Night
DESCRIPTION:Game Night/Movie Night
URL:https://www.fbcplumgrove.church/calendar/game-night-movie-night/
END:VEVENT
BEGIN:VEVENT
DTSTART;TZID=UTC:20241215T120000
DTEND;TZID=UTC:20241215T140000
DTSTAMP:20260423T223138
CREATED:20241113T013927Z
LAST-MODIFIED:20241113T013927Z
UID:1601-1734264000-1734271200@www.fbcplumgrove.church
SUMMARY:Children's Christmas Party
DESCRIPTION:
URL:https://www.fbcplumgrove.church/calendar/childrens-christmas-party/
END:VEVENT
BEGIN:VEVENT
DTSTART;TZID=UTC:20241215T110000
DTEND;TZID=UTC:20241215T120000
DTSTAMP:20260423T223138
CREATED:20240812T175846Z
LAST-MODIFIED:20240812T175846Z
UID:1564-1734260400-1734264000@www.fbcplumgrove.church
SUMMARY:Christmas Program
DESCRIPTION:
URL:https://www.fbcplumgrove.church/calendar/christmas-program-3/
END:VEVENT
BEGIN:VEVENT
DTSTART;VALUE=DATE:20241213
DTEND;VALUE=DATE:20241215
DTSTAMP:20260423T223138
CREATED:20241110T161419Z
LAST-MODIFIED:20241110T161419Z
UID:1594-1734048000-1734220799@www.fbcplumgrove.church
SUMMARY:Church Winter Camping Day
DESCRIPTION:Come join us Friday\, December 13th to Saturday December 14th. Church camping in front lawn. Bring your tents\, sleeping bags\, RV\, etc..
URL:https://www.fbcplumgrove.church/calendar/church-winter-camping-day/
LOCATION:FBCPG Front Lawn
END:VEVENT
BEGIN:VEVENT
DTSTART;TZID=UTC:20241206T140000
DTEND;TZID=UTC:20241206T210000
DTSTAMP:20260423T223138
CREATED:20241118T174843Z
LAST-MODIFIED:20241118T174843Z
UID:1606-1733493600-1733518800@www.fbcplumgrove.church
SUMMARY:Gym Bible Study for Community Youth (Lance Hardman)
DESCRIPTION:Gym Bible Study for Community for Youth
URL:https://www.fbcplumgrove.church/calendar/gym-bible-study-for-community-youth-lance-hardman-2/
END:VEVENT
END:VCALENDAR