BEGIN:VCALENDAR
VERSION:2.0
PRODID:-//FBC Plum Grove - ECPv6.15.3//NONSGML v1.0//EN
CALSCALE:GREGORIAN
METHOD:PUBLISH
X-WR-CALNAME:FBC Plum Grove
X-ORIGINAL-URL:https://www.fbcplumgrove.church
X-WR-CALDESC:Events for FBC Plum Grove
REFRESH-INTERVAL;VALUE=DURATION:PT1H
X-Robots-Tag:noindex
X-PUBLISHED-TTL:PT1H
BEGIN:VTIMEZONE
TZID:UTC
BEGIN:STANDARD
TZOFFSETFROM:+0000
TZOFFSETTO:+0000
TZNAME:UTC
DTSTART:20230101T000000
END:STANDARD
END:VTIMEZONE
BEGIN:VEVENT
DTSTART;VALUE=DATE:20241225
DTEND;VALUE=DATE:20241226
DTSTAMP:20260424T122459
CREATED:20241007T090358Z
LAST-MODIFIED:20241007T090358Z
UID:1576-1735084800-1735171199@www.fbcplumgrove.church
SUMMARY:No Activities
DESCRIPTION:
URL:https://www.fbcplumgrove.church/calendar/no-activities-13/
END:VEVENT
BEGIN:VEVENT
DTSTART;TZID=UTC:20241219T120000
DTEND;TZID=UTC:20241219T210000
DTSTAMP:20260424T122459
CREATED:20241118T181509Z
LAST-MODIFIED:20241118T181509Z
UID:1608-1734609600-1734642000@www.fbcplumgrove.church
SUMMARY:Game Night/Movie Night
DESCRIPTION:Game Night/Movie Night
URL:https://www.fbcplumgrove.church/calendar/game-night-movie-night/
END:VEVENT
BEGIN:VEVENT
DTSTART;TZID=UTC:20241215T120000
DTEND;TZID=UTC:20241215T140000
DTSTAMP:20260424T122459
CREATED:20241113T013927Z
LAST-MODIFIED:20241113T013927Z
UID:1601-1734264000-1734271200@www.fbcplumgrove.church
SUMMARY:Children's Christmas Party
DESCRIPTION:
URL:https://www.fbcplumgrove.church/calendar/childrens-christmas-party/
END:VEVENT
BEGIN:VEVENT
DTSTART;TZID=UTC:20241215T110000
DTEND;TZID=UTC:20241215T120000
DTSTAMP:20260424T122459
CREATED:20240812T175846Z
LAST-MODIFIED:20240812T175846Z
UID:1564-1734260400-1734264000@www.fbcplumgrove.church
SUMMARY:Christmas Program
DESCRIPTION:
URL:https://www.fbcplumgrove.church/calendar/christmas-program-3/
END:VEVENT
BEGIN:VEVENT
DTSTART;VALUE=DATE:20241213
DTEND;VALUE=DATE:20241215
DTSTAMP:20260424T122459
CREATED:20241110T161419Z
LAST-MODIFIED:20241110T161419Z
UID:1594-1734048000-1734220799@www.fbcplumgrove.church
SUMMARY:Church Winter Camping Day
DESCRIPTION:Come join us Friday\, December 13th to Saturday December 14th. Church camping in front lawn. Bring your tents\, sleeping bags\, RV\, etc..
URL:https://www.fbcplumgrove.church/calendar/church-winter-camping-day/
LOCATION:FBCPG Front Lawn
END:VEVENT
BEGIN:VEVENT
DTSTART;TZID=UTC:20241206T140000
DTEND;TZID=UTC:20241206T210000
DTSTAMP:20260424T122459
CREATED:20241118T174843Z
LAST-MODIFIED:20241118T174843Z
UID:1606-1733493600-1733518800@www.fbcplumgrove.church
SUMMARY:Gym Bible Study for Community Youth (Lance Hardman)
DESCRIPTION:Gym Bible Study for Community for Youth
URL:https://www.fbcplumgrove.church/calendar/gym-bible-study-for-community-youth-lance-hardman-2/
END:VEVENT
BEGIN:VEVENT
DTSTART;VALUE=DATE:20241127
DTEND;VALUE=DATE:20241128
DTSTAMP:20260424T122459
CREATED:20241007T090319Z
LAST-MODIFIED:20241007T090319Z
UID:1574-1732665600-1732751999@www.fbcplumgrove.church
SUMMARY:No Activities
DESCRIPTION:
URL:https://www.fbcplumgrove.church/calendar/no-activities-12/
END:VEVENT
BEGIN:VEVENT
DTSTART;TZID=UTC:20241117T120000
DTEND;TZID=UTC:20241117T140000
DTSTAMP:20260424T122459
CREATED:20240812T180002Z
LAST-MODIFIED:20240812T180002Z
UID:1566-1731844800-1731852000@www.fbcplumgrove.church
SUMMARY:Thanksgiving Meal
DESCRIPTION:
URL:https://www.fbcplumgrove.church/calendar/thanksgiving-meal/
END:VEVENT
BEGIN:VEVENT
DTSTART;TZID=UTC:20241115T140000
DTEND;TZID=UTC:20241115T210000
DTSTAMP:20260424T122459
CREATED:20241110T161729Z
LAST-MODIFIED:20241110T161729Z
UID:1598-1731679200-1731704400@www.fbcplumgrove.church
SUMMARY:Gym Bible Study for Community Youth (Lance Hardman)
DESCRIPTION:Gym Bible Study for Community Youth
URL:https://www.fbcplumgrove.church/calendar/gym-bible-study-for-community-youth-lance-hardman/
END:VEVENT
BEGIN:VEVENT
DTSTART;TZID=UTC:20241026T100000
DTEND;TZID=UTC:20241026T140000
DTSTAMP:20260424T122459
CREATED:20240812T163029Z
LAST-MODIFIED:20240812T163405Z
UID:1562-1729936800-1729951200@www.fbcplumgrove.church
SUMMARY:Fall Festival
DESCRIPTION:
URL:https://www.fbcplumgrove.church/calendar/fall-festival-4/
END:VEVENT
BEGIN:VEVENT
DTSTART;VALUE=DATE:20241005
DTEND;VALUE=DATE:20241006
DTSTAMP:20260424T122459
CREATED:20240807T234623Z
LAST-MODIFIED:20240807T234623Z
UID:1560-1728086400-1728172799@www.fbcplumgrove.church
SUMMARY:Reagan Gober Baby Shower
DESCRIPTION:
URL:https://www.fbcplumgrove.church/calendar/reagan-gober-baby-shower/
END:VEVENT
BEGIN:VEVENT
DTSTART;TZID=UTC:20240920T080000
DTEND;TZID=UTC:20240921T170000
DTSTAMP:20260424T122459
CREATED:20230806T203213Z
LAST-MODIFIED:20230806T203213Z
UID:1529-1726819200-1726938000@www.fbcplumgrove.church
SUMMARY:Brawn/Santana Wedding
DESCRIPTION:
URL:https://www.fbcplumgrove.church/calendar/brawn-santana-wedding/
END:VEVENT
BEGIN:VEVENT
DTSTART;TZID=UTC:20240908T123000
DTEND;TZID=UTC:20240908T133000
DTSTAMP:20260424T122459
CREATED:20240820T172850Z
LAST-MODIFIED:20240820T172850Z
UID:1569-1725798600-1725802200@www.fbcplumgrove.church
SUMMARY:New Members Class
DESCRIPTION:
URL:https://www.fbcplumgrove.church/calendar/new-members-class/
END:VEVENT
BEGIN:VEVENT
DTSTART;VALUE=DATE:20240810
DTEND;VALUE=DATE:20240811
DTSTAMP:20260424T122459
CREATED:20240603T223210Z
LAST-MODIFIED:20240603T223210Z
UID:1557-1723248000-1723334399@www.fbcplumgrove.church
SUMMARY:Private Event - Brawn Bridal Shower
DESCRIPTION:
URL:https://www.fbcplumgrove.church/calendar/private-event-brawn-bridal-shower/
END:VEVENT
BEGIN:VEVENT
DTSTART;TZID=UTC:20240717T200000
DTEND;TZID=UTC:20240717T203000
DTSTAMP:20260424T122459
CREATED:20230726T183601Z
LAST-MODIFIED:20230726T183601Z
UID:1488-1721246400-1721248200@www.fbcplumgrove.church
SUMMARY:QTR Business Meeting
DESCRIPTION:
URL:https://www.fbcplumgrove.church/calendar/qtr-business-meeting-6/
END:VEVENT
BEGIN:VEVENT
DTSTART;TZID=UTC:20240707T180000
DTEND;TZID=UTC:20240711T203000
DTSTAMP:20260424T122459
CREATED:20230726T182533Z
LAST-MODIFIED:20230726T182533Z
UID:1478-1720375200-1720729800@www.fbcplumgrove.church
SUMMARY:VBS
DESCRIPTION:
URL:https://www.fbcplumgrove.church/calendar/vbs-5/
END:VEVENT
BEGIN:VEVENT
DTSTART;TZID=UTC:20240609T080000
DTEND;TZID=UTC:20240615T170000
DTSTAMP:20260424T122459
CREATED:20230726T165043Z
LAST-MODIFIED:20230726T165043Z
UID:1472-1717920000-1718470800@www.fbcplumgrove.church
SUMMARY:Comanche Mission Trip
DESCRIPTION:see Joseph for details
URL:https://www.fbcplumgrove.church/calendar/comanche-mission-trip-2/
END:VEVENT
BEGIN:VEVENT
DTSTART;TZID=UTC:20240526T130000
DTEND;TZID=UTC:20240526T170000
DTSTAMP:20260424T122459
CREATED:20240405T013640Z
LAST-MODIFIED:20240405T013640Z
UID:1554-1716728400-1716742800@www.fbcplumgrove.church
SUMMARY:Private Event - Cortes
DESCRIPTION:
URL:https://www.fbcplumgrove.church/calendar/private-event-cortes/
END:VEVENT
BEGIN:VEVENT
DTSTART;TZID=UTC:20240420T080000
DTEND;TZID=UTC:20240420T170000
DTSTAMP:20260424T122459
CREATED:20230806T203032Z
LAST-MODIFIED:20230806T203032Z
UID:1527-1713600000-1713632400@www.fbcplumgrove.church
SUMMARY:Spring Festival
DESCRIPTION:
URL:https://www.fbcplumgrove.church/calendar/spring-festival-2/
END:VEVENT
BEGIN:VEVENT
DTSTART;TZID=UTC:20240410T200000
DTEND;TZID=UTC:20240410T203000
DTSTAMP:20260424T122459
CREATED:20230726T184018Z
LAST-MODIFIED:20230726T184018Z
UID:1492-1712779200-1712781000@www.fbcplumgrove.church
SUMMARY:QTR Business Meeting
DESCRIPTION:
URL:https://www.fbcplumgrove.church/calendar/qtr-business-meeting-8/
END:VEVENT
BEGIN:VEVENT
DTSTART;TZID=UTC:20240404T100000
DTEND;TZID=UTC:20240404T140000
DTSTAMP:20260424T122459
CREATED:20230806T203627Z
LAST-MODIFIED:20230806T203627Z
UID:1541-1712224800-1712239200@www.fbcplumgrove.church
SUMMARY:Senior Plums
DESCRIPTION:
URL:https://www.fbcplumgrove.church/calendar/senior-plums-6/
END:VEVENT
BEGIN:VEVENT
DTSTART;TZID=UTC:20240331T083000
DTEND;TZID=UTC:20240331T213000
DTSTAMP:20260424T122459
CREATED:20230726T184403Z
LAST-MODIFIED:20230726T184403Z
UID:1498-1711873800-1711920600@www.fbcplumgrove.church
SUMMARY:Easter Breakfast
DESCRIPTION:
URL:https://www.fbcplumgrove.church/calendar/easter-breakfast/
END:VEVENT
BEGIN:VEVENT
DTSTART;TZID=UTC:20240331T073000
DTEND;TZID=UTC:20240331T083000
DTSTAMP:20260424T122459
CREATED:20230726T184457Z
LAST-MODIFIED:20230726T184457Z
UID:1500-1711870200-1711873800@www.fbcplumgrove.church
SUMMARY:Sunrise Service
DESCRIPTION:
URL:https://www.fbcplumgrove.church/calendar/sunrise-service-4/
END:VEVENT
BEGIN:VEVENT
DTSTART;TZID=UTC:20240210T173000
DTEND;TZID=UTC:20240210T190000
DTSTAMP:20260424T122459
CREATED:20240108T001746Z
LAST-MODIFIED:20240108T001746Z
UID:1551-1707586200-1707591600@www.fbcplumgrove.church
SUMMARY:Valentine's Banquet
DESCRIPTION:Join us for a dinner at the church! $15 a plate.
URL:https://www.fbcplumgrove.church/calendar/valentines-banquet/
END:VEVENT
BEGIN:VEVENT
DTSTART;TZID=UTC:20240201T100000
DTEND;TZID=UTC:20240201T140000
DTSTAMP:20260424T122459
CREATED:20230806T203545Z
LAST-MODIFIED:20230806T203545Z
UID:1539-1706781600-1706796000@www.fbcplumgrove.church
SUMMARY:Senior Plums
DESCRIPTION:
URL:https://www.fbcplumgrove.church/calendar/senior-plums-5/
END:VEVENT
BEGIN:VEVENT
DTSTART;TZID=UTC:20240110T200000
DTEND;TZID=UTC:20240110T203000
DTSTAMP:20260424T122459
CREATED:20230726T183342Z
LAST-MODIFIED:20230726T183342Z
UID:1484-1704916800-1704918600@www.fbcplumgrove.church
SUMMARY:Qtr Business Meeting
DESCRIPTION:
URL:https://www.fbcplumgrove.church/calendar/qtr-business-meeting-4/
END:VEVENT
BEGIN:VEVENT
DTSTART;VALUE=DATE:20231227
DTEND;VALUE=DATE:20231228
DTSTAMP:20260424T122459
CREATED:20230714T202359Z
LAST-MODIFIED:20230714T202359Z
UID:1463-1703635200-1703721599@www.fbcplumgrove.church
SUMMARY:No Activities
DESCRIPTION:
URL:https://www.fbcplumgrove.church/calendar/no-activities-11/
END:VEVENT
BEGIN:VEVENT
DTSTART;VALUE=DATE:20231225
DTEND;VALUE=DATE:20231226
DTSTAMP:20260424T122459
CREATED:20231203T232054Z
LAST-MODIFIED:20231203T232054Z
UID:1549-1703462400-1703548799@www.fbcplumgrove.church
SUMMARY:Private Event - Brawn
DESCRIPTION:
URL:https://www.fbcplumgrove.church/calendar/private-event-brawn/
END:VEVENT
BEGIN:VEVENT
DTSTART;TZID=UTC:20231217T110000
DTEND;TZID=UTC:20231217T120000
DTSTAMP:20260424T122459
CREATED:20230729T120715Z
LAST-MODIFIED:20230729T120715Z
UID:1512-1702810800-1702814400@www.fbcplumgrove.church
SUMMARY:Combined Worship
DESCRIPTION:
URL:https://www.fbcplumgrove.church/calendar/combined-worship-12/
END:VEVENT
BEGIN:VEVENT
DTSTART;TZID=UTC:20231217T110000
DTEND;TZID=UTC:20231217T120000
DTSTAMP:20260424T122459
CREATED:20230726T182844Z
LAST-MODIFIED:20230728T191508Z
UID:1480-1702810800-1702814400@www.fbcplumgrove.church
SUMMARY:Christmas Program
DESCRIPTION:
URL:https://www.fbcplumgrove.church/calendar/christmas-program-2/
END:VEVENT
END:VCALENDAR