BEGIN:VCALENDAR
VERSION:2.0
PRODID:-//FBC Plum Grove - ECPv6.15.3//NONSGML v1.0//EN
CALSCALE:GREGORIAN
METHOD:PUBLISH
X-WR-CALNAME:FBC Plum Grove
X-ORIGINAL-URL:https://www.fbcplumgrove.church
X-WR-CALDESC:Events for FBC Plum Grove
REFRESH-INTERVAL;VALUE=DURATION:PT1H
X-Robots-Tag:noindex
X-PUBLISHED-TTL:PT1H
BEGIN:VTIMEZONE
TZID:UTC
BEGIN:STANDARD
TZOFFSETFROM:+0000
TZOFFSETTO:+0000
TZNAME:UTC
DTSTART:20230101T000000
END:STANDARD
END:VTIMEZONE
BEGIN:VEVENT
DTSTART;TZID=UTC:20231102T100000
DTEND;TZID=UTC:20231102T140000
DTSTAMP:20260426T032010
CREATED:20230806T203433Z
LAST-MODIFIED:20230806T203433Z
UID:1535-1698919200-1698933600@www.fbcplumgrove.church
SUMMARY:Senior Plums
DESCRIPTION:
URL:https://www.fbcplumgrove.church/calendar/senior-plums-3/
END:VEVENT
BEGIN:VEVENT
DTSTART;TZID=UTC:20231108T200000
DTEND;TZID=UTC:20231108T203000
DTSTAMP:20260426T032010
CREATED:20230731T210951Z
LAST-MODIFIED:20230731T210951Z
UID:1522-1699473600-1699475400@www.fbcplumgrove.church
SUMMARY:Special Called Business Meeting to discuss Proposed Budget for 2024
DESCRIPTION:
URL:https://www.fbcplumgrove.church/calendar/special-called-business-meeting-to-discuss-proposed-budget-for-2024/
END:VEVENT
BEGIN:VEVENT
DTSTART;TZID=UTC:20231112T110000
DTEND;TZID=UTC:20231112T120000
DTSTAMP:20260426T032010
CREATED:20230729T120922Z
LAST-MODIFIED:20230806T202837Z
UID:1514-1699786800-1699790400@www.fbcplumgrove.church
SUMMARY:Combined Worship
DESCRIPTION:
URL:https://www.fbcplumgrove.church/calendar/combined/
END:VEVENT
BEGIN:VEVENT
DTSTART;TZID=UTC:20231112T120000
DTEND;TZID=UTC:20231112T133000
DTSTAMP:20260426T032010
CREATED:20230726T181744Z
LAST-MODIFIED:20230806T202739Z
UID:1474-1699790400-1699795800@www.fbcplumgrove.church
SUMMARY:Thanksgiving Meal
DESCRIPTION:
URL:https://www.fbcplumgrove.church/calendar/christmas-program/
END:VEVENT
BEGIN:VEVENT
DTSTART;TZID=UTC:20231115T200000
DTEND;TZID=UTC:20231115T203000
DTSTAMP:20260426T032010
CREATED:20230731T211045Z
LAST-MODIFIED:20230731T211045Z
UID:1524-1700078400-1700080200@www.fbcplumgrove.church
SUMMARY:Special Called Business Meeting to discuss Proposed Budget for 2024
DESCRIPTION:
URL:https://www.fbcplumgrove.church/calendar/special-called-business-meeting-to-discuss-proposed-budget-for-2024-2/
END:VEVENT
BEGIN:VEVENT
DTSTART;VALUE=DATE:20231117
DTEND;VALUE=DATE:20231119
DTSTAMP:20260426T032010
CREATED:20230701T225900Z
LAST-MODIFIED:20230731T180147Z
UID:1448-1700179200-1700351999@www.fbcplumgrove.church
SUMMARY:Gober/Faulkner Wedding
DESCRIPTION:
URL:https://www.fbcplumgrove.church/calendar/gober-wedding/
END:VEVENT
BEGIN:VEVENT
DTSTART;VALUE=DATE:20231122
DTEND;VALUE=DATE:20231123
DTSTAMP:20260426T032010
CREATED:20230714T202226Z
LAST-MODIFIED:20230714T202226Z
UID:1461-1700611200-1700697599@www.fbcplumgrove.church
SUMMARY:No Activities
DESCRIPTION:
URL:https://www.fbcplumgrove.church/calendar/no-activities-10/
END:VEVENT
END:VCALENDAR