BEGIN:VCALENDAR
VERSION:2.0
PRODID:-//FBC Plum Grove - ECPv6.15.3//NONSGML v1.0//EN
CALSCALE:GREGORIAN
METHOD:PUBLISH
X-WR-CALNAME:FBC Plum Grove
X-ORIGINAL-URL:https://www.fbcplumgrove.church
X-WR-CALDESC:Events for FBC Plum Grove
REFRESH-INTERVAL;VALUE=DURATION:PT1H
X-Robots-Tag:noindex
X-PUBLISHED-TTL:PT1H
BEGIN:VTIMEZONE
TZID:UTC
BEGIN:STANDARD
TZOFFSETFROM:+0000
TZOFFSETTO:+0000
TZNAME:UTC
DTSTART:20240101T000000
END:STANDARD
END:VTIMEZONE
BEGIN:VEVENT
DTSTART;VALUE=DATE:20241005
DTEND;VALUE=DATE:20241006
DTSTAMP:20260425T121704
CREATED:20240807T234623Z
LAST-MODIFIED:20240807T234623Z
UID:1560-1728086400-1728172799@www.fbcplumgrove.church
SUMMARY:Reagan Gober Baby Shower
DESCRIPTION:
URL:https://www.fbcplumgrove.church/calendar/reagan-gober-baby-shower/
END:VEVENT
BEGIN:VEVENT
DTSTART;TZID=UTC:20241026T100000
DTEND;TZID=UTC:20241026T140000
DTSTAMP:20260425T121704
CREATED:20240812T163029Z
LAST-MODIFIED:20240812T163405Z
UID:1562-1729936800-1729951200@www.fbcplumgrove.church
SUMMARY:Fall Festival
DESCRIPTION:
URL:https://www.fbcplumgrove.church/calendar/fall-festival-4/
END:VEVENT
END:VCALENDAR