BEGIN:VCALENDAR
VERSION:2.0
PRODID:-//FBC Plum Grove - ECPv6.15.3//NONSGML v1.0//EN
CALSCALE:GREGORIAN
METHOD:PUBLISH
X-WR-CALNAME:FBC Plum Grove
X-ORIGINAL-URL:https://www.fbcplumgrove.church
X-WR-CALDESC:Events for FBC Plum Grove
REFRESH-INTERVAL;VALUE=DURATION:PT1H
X-Robots-Tag:noindex
X-PUBLISHED-TTL:PT1H
BEGIN:VTIMEZONE
TZID:UTC
BEGIN:STANDARD
TZOFFSETFROM:+0000
TZOFFSETTO:+0000
TZNAME:UTC
DTSTART:20240101T000000
END:STANDARD
END:VTIMEZONE
BEGIN:VEVENT
DTSTART;TZID=UTC:20241115T140000
DTEND;TZID=UTC:20241115T210000
DTSTAMP:20260425T103317
CREATED:20241110T161729Z
LAST-MODIFIED:20241110T161729Z
UID:1598-1731679200-1731704400@www.fbcplumgrove.church
SUMMARY:Gym Bible Study for Community Youth (Lance Hardman)
DESCRIPTION:Gym Bible Study for Community Youth
URL:https://www.fbcplumgrove.church/calendar/gym-bible-study-for-community-youth-lance-hardman/
END:VEVENT
BEGIN:VEVENT
DTSTART;TZID=UTC:20241117T120000
DTEND;TZID=UTC:20241117T140000
DTSTAMP:20260425T103317
CREATED:20240812T180002Z
LAST-MODIFIED:20240812T180002Z
UID:1566-1731844800-1731852000@www.fbcplumgrove.church
SUMMARY:Thanksgiving Meal
DESCRIPTION:
URL:https://www.fbcplumgrove.church/calendar/thanksgiving-meal/
END:VEVENT
BEGIN:VEVENT
DTSTART;VALUE=DATE:20241127
DTEND;VALUE=DATE:20241128
DTSTAMP:20260425T103317
CREATED:20241007T090319Z
LAST-MODIFIED:20241007T090319Z
UID:1574-1732665600-1732751999@www.fbcplumgrove.church
SUMMARY:No Activities
DESCRIPTION:
URL:https://www.fbcplumgrove.church/calendar/no-activities-12/
END:VEVENT
END:VCALENDAR