BEGIN:VCALENDAR
VERSION:2.0
PRODID:-//FBC Plum Grove - ECPv6.15.3//NONSGML v1.0//EN
CALSCALE:GREGORIAN
METHOD:PUBLISH
X-ORIGINAL-URL:https://www.fbcplumgrove.church
X-WR-CALDESC:Events for FBC Plum Grove
REFRESH-INTERVAL;VALUE=DURATION:PT1H
X-Robots-Tag:noindex
X-PUBLISHED-TTL:PT1H
BEGIN:VTIMEZONE
TZID:UTC
BEGIN:STANDARD
TZOFFSETFROM:+0000
TZOFFSETTO:+0000
TZNAME:UTC
DTSTART:20250101T000000
END:STANDARD
END:VTIMEZONE
BEGIN:VEVENT
DTSTART;VALUE=DATE:20250321
DTEND;VALUE=DATE:20250323
DTSTAMP:20260424T072044
CREATED:20250203T192758Z
LAST-MODIFIED:20250315T163326Z
UID:1634-1742515200-1742687999@www.fbcplumgrove.church
SUMMARY:(CANCELLED) Church Camping Day
DESCRIPTION:Overnight Camping at Church Property
URL:https://www.fbcplumgrove.church/calendar/church-camping-day/
END:VEVENT
END:VCALENDAR