BEGIN:VCALENDAR
VERSION:2.0
PRODID:-//FBC Plum Grove - ECPv6.15.3//NONSGML v1.0//EN
CALSCALE:GREGORIAN
METHOD:PUBLISH
X-ORIGINAL-URL:https://www.fbcplumgrove.church
X-WR-CALDESC:Events for FBC Plum Grove
REFRESH-INTERVAL;VALUE=DURATION:PT1H
X-Robots-Tag:noindex
X-PUBLISHED-TTL:PT1H
BEGIN:VTIMEZONE
TZID:UTC
BEGIN:STANDARD
TZOFFSETFROM:+0000
TZOFFSETTO:+0000
TZNAME:UTC
DTSTART:20250101T000000
END:STANDARD
END:VTIMEZONE
BEGIN:VEVENT
DTSTART;TZID=UTC:20251001T180000
DTEND;TZID=UTC:20251001T190000
DTSTAMP:20260423T220417
CREATED:20250921T175553Z
LAST-MODIFIED:20250921T210017Z
UID:1767-1759341600-1759345200@www.fbcplumgrove.church
SUMMARY:Women's Evening Bible Study
DESCRIPTION:
URL:https://www.fbcplumgrove.church/calendar/women-bible-study/
END:VEVENT
BEGIN:VEVENT
DTSTART;TZID=UTC:20251002T130000
DTEND;TZID=UTC:20251002T140000
DTSTAMP:20260423T220417
CREATED:20250921T175950Z
LAST-MODIFIED:20251015T233353Z
UID:1774-1759410000-1759413600@www.fbcplumgrove.church
SUMMARY:Women's Bible Study @ FBCPG
DESCRIPTION:
URL:https://www.fbcplumgrove.church/calendar/women-bible-study-susans-house/
END:VEVENT
BEGIN:VEVENT
DTSTART;TZID=UTC:20251008T200000
DTEND;TZID=UTC:20251008T203000
DTSTAMP:20260423T220417
CREATED:20251003T230737Z
LAST-MODIFIED:20251003T230737Z
UID:1936-1759953600-1759955400@www.fbcplumgrove.church
SUMMARY:Quarterly Business Meeting
DESCRIPTION:
URL:https://www.fbcplumgrove.church/calendar/quarterly-business-meeting-6/
END:VEVENT
BEGIN:VEVENT
DTSTART;TZID=UTC:20251010T170000
DTEND;TZID=UTC:20251010T190000
DTSTAMP:20260423T220417
CREATED:20250921T175246Z
LAST-MODIFIED:20250921T212240Z
UID:1765-1760115600-1760122800@www.fbcplumgrove.church
SUMMARY:Gym Bible Study for Community Youth (Lance Hardman)
DESCRIPTION:
URL:https://www.fbcplumgrove.church/calendar/lance-bible-study/
END:VEVENT
BEGIN:VEVENT
DTSTART;TZID=UTC:20251011T100000
DTEND;TZID=UTC:20251011T140000
DTSTAMP:20260423T220417
CREATED:20250118T110946Z
LAST-MODIFIED:20250922T114641Z
UID:1631-1760176800-1760191200@www.fbcplumgrove.church
SUMMARY:Fall Festival
DESCRIPTION:
URL:https://www.fbcplumgrove.church/calendar/fall-festival-5/
CATEGORIES:Outreach
END:VEVENT
BEGIN:VEVENT
DTSTART;TZID=UTC:20251012T110000
DTEND;TZID=UTC:20251012T120000
DTSTAMP:20260423T220417
CREATED:20250915T041404Z
LAST-MODIFIED:20250915T041404Z
UID:1726-1760266800-1760270400@www.fbcplumgrove.church
SUMMARY:Combine English/Spanish
DESCRIPTION:
URL:https://www.fbcplumgrove.church/calendar/combine-english-spanish/
END:VEVENT
BEGIN:VEVENT
DTSTART;TZID=UTC:20251012T120000
DTEND;TZID=UTC:20251012T140000
DTSTAMP:20260423T220417
CREATED:20250118T110835Z
LAST-MODIFIED:20250914T142856Z
UID:1629-1760270400-1760277600@www.fbcplumgrove.church
SUMMARY:Lunch Fellowship
DESCRIPTION:
URL:https://www.fbcplumgrove.church/calendar/lunch-fellowship/
END:VEVENT
BEGIN:VEVENT
DTSTART;TZID=UTC:20251012T121000
DTEND;TZID=UTC:20251012T123000
DTSTAMP:20260423T220417
CREATED:20250921T192839Z
LAST-MODIFIED:20250921T192839Z
UID:1863-1760271000-1760272200@www.fbcplumgrove.church
SUMMARY:Property Meeting
DESCRIPTION:
URL:https://www.fbcplumgrove.church/calendar/property-meeting/
END:VEVENT
BEGIN:VEVENT
DTSTART;TZID=UTC:20251018T080000
DTEND;TZID=UTC:20251018T120000
DTSTAMP:20260423T220417
CREATED:20250921T192725Z
LAST-MODIFIED:20250921T192725Z
UID:1861-1760774400-1760788800@www.fbcplumgrove.church
SUMMARY:Church Work
DESCRIPTION:
URL:https://www.fbcplumgrove.church/calendar/church-work/
END:VEVENT
BEGIN:VEVENT
DTSTART;TZID=UTC:20251019T123000
DTEND;TZID=UTC:20251019T143000
DTSTAMP:20260423T220417
CREATED:20250921T181440Z
LAST-MODIFIED:20250921T210138Z
UID:1776-1760877000-1760884200@www.fbcplumgrove.church
SUMMARY:Women's Arts & Crafts
DESCRIPTION:
URL:https://www.fbcplumgrove.church/calendar/womens-arts-crafts/
END:VEVENT
BEGIN:VEVENT
DTSTART;TZID=UTC:20251029T180000
DTEND;TZID=UTC:20251029T203000
DTSTAMP:20260423T220417
CREATED:20250921T181633Z
LAST-MODIFIED:20251012T184027Z
UID:1778-1761760800-1761769800@www.fbcplumgrove.church
SUMMARY:Youth Fall Party
DESCRIPTION:
URL:https://www.fbcplumgrove.church/calendar/youth-fall-party/
END:VEVENT
END:VCALENDAR