BEGIN:VCALENDAR
VERSION:2.0
PRODID:-//FBC Plum Grove - ECPv6.15.3//NONSGML v1.0//EN
CALSCALE:GREGORIAN
METHOD:PUBLISH
X-ORIGINAL-URL:https://www.fbcplumgrove.church
X-WR-CALDESC:Events for FBC Plum Grove
REFRESH-INTERVAL;VALUE=DURATION:PT1H
X-Robots-Tag:noindex
X-PUBLISHED-TTL:PT1H
BEGIN:VTIMEZONE
TZID:UTC
BEGIN:STANDARD
TZOFFSETFROM:+0000
TZOFFSETTO:+0000
TZNAME:UTC
DTSTART:20250101T000000
END:STANDARD
END:VTIMEZONE
BEGIN:VEVENT
DTSTART;TZID=UTC:20251105T180000
DTEND;TZID=UTC:20251105T190000
DTSTAMP:20260423T204627
CREATED:20250921T175654Z
LAST-MODIFIED:20250921T205644Z
UID:1769-1762365600-1762369200@www.fbcplumgrove.church
SUMMARY:Women's Evening Bible Study
DESCRIPTION:
URL:https://www.fbcplumgrove.church/calendar/women-bible-study-2/
END:VEVENT
BEGIN:VEVENT
DTSTART;TZID=UTC:20251114T170000
DTEND;TZID=UTC:20251114T190000
DTSTAMP:20260423T204627
CREATED:20250921T181903Z
LAST-MODIFIED:20250921T212234Z
UID:1782-1763139600-1763146800@www.fbcplumgrove.church
SUMMARY:Gym Bible Study for Community Youth (Lance Hardman)
DESCRIPTION:
URL:https://www.fbcplumgrove.church/calendar/lance-bible-study-2/
END:VEVENT
BEGIN:VEVENT
DTSTART;TZID=UTC:20251116T120000
DTEND;TZID=UTC:20251116T140000
DTSTAMP:20260423T204627
CREATED:20241007T091033Z
LAST-MODIFIED:20241007T091033Z
UID:1582-1763294400-1763301600@www.fbcplumgrove.church
SUMMARY:Thanksgiving Meal
DESCRIPTION:
URL:https://www.fbcplumgrove.church/calendar/thanksgiving-meal-2/
END:VEVENT
BEGIN:VEVENT
DTSTART;TZID=UTC:20251121T180000
DTEND;TZID=UTC:20251121T183000
DTSTAMP:20260423T204627
CREATED:20250921T181812Z
LAST-MODIFIED:20250921T181812Z
UID:1780-1763748000-1763749800@www.fbcplumgrove.church
SUMMARY:Youth Thanksgiving Dinner
DESCRIPTION:
URL:https://www.fbcplumgrove.church/calendar/youth-thanksgiving-dinner/
END:VEVENT
BEGIN:VEVENT
DTSTART;VALUE=DATE:20251126
DTEND;VALUE=DATE:20251127
DTSTAMP:20260423T204627
CREATED:20241007T091127Z
LAST-MODIFIED:20241007T091127Z
UID:1584-1764115200-1764201599@www.fbcplumgrove.church
SUMMARY:No Activities
DESCRIPTION:
URL:https://www.fbcplumgrove.church/calendar/no-activities-15/
END:VEVENT
BEGIN:VEVENT
DTSTART;VALUE=DATE:20251127
DTEND;VALUE=DATE:20251128
DTSTAMP:20260423T204627
CREATED:20251115T202203Z
LAST-MODIFIED:20251115T202235Z
UID:1967-1764201600-1764287999@www.fbcplumgrove.church
SUMMARY:Private Event
DESCRIPTION:
URL:https://www.fbcplumgrove.church/calendar/private-event-3/
END:VEVENT
END:VCALENDAR