BEGIN:VCALENDAR
VERSION:2.0
PRODID:-//FBC Plum Grove - ECPv6.15.3//NONSGML v1.0//EN
CALSCALE:GREGORIAN
METHOD:PUBLISH
X-ORIGINAL-URL:https://www.fbcplumgrove.church
X-WR-CALDESC:Events for FBC Plum Grove
REFRESH-INTERVAL;VALUE=DURATION:PT1H
X-Robots-Tag:noindex
X-PUBLISHED-TTL:PT1H
BEGIN:VTIMEZONE
TZID:UTC
BEGIN:STANDARD
TZOFFSETFROM:+0000
TZOFFSETTO:+0000
TZNAME:UTC
DTSTART:20250101T000000
END:STANDARD
END:VTIMEZONE
BEGIN:VEVENT
DTSTART;TZID=UTC:20251203T180000
DTEND;TZID=UTC:20251203T190000
DTSTAMP:20260423T193336
CREATED:20250921T182559Z
LAST-MODIFIED:20250921T205632Z
UID:1786-1764784800-1764788400@www.fbcplumgrove.church
SUMMARY:Women's Evening Bible Study
DESCRIPTION:
URL:https://www.fbcplumgrove.church/calendar/womens-bible-study/
END:VEVENT
BEGIN:VEVENT
DTSTART;TZID=UTC:20251207T120000
DTEND;TZID=UTC:20251207T140000
DTSTAMP:20260423T193336
CREATED:20251123T144243Z
LAST-MODIFIED:20251124T134956Z
UID:1969-1765108800-1765116000@www.fbcplumgrove.church
SUMMARY:Private Event
DESCRIPTION:
URL:https://www.fbcplumgrove.church/calendar/private-event-4/
END:VEVENT
BEGIN:VEVENT
DTSTART;TZID=UTC:20251212T110000
DTEND;TZID=UTC:20251212T130000
DTSTAMP:20260423T193336
CREATED:20251012T184639Z
LAST-MODIFIED:20251112T233319Z
UID:1939-1765537200-1765544400@www.fbcplumgrove.church
SUMMARY:Senior Plums White Elephant Exchange
DESCRIPTION:Senior Plums White Elephant Exchange\n@FBCPG
URL:https://www.fbcplumgrove.church/calendar/senior-plums-white-elephant-exchange/
END:VEVENT
BEGIN:VEVENT
DTSTART;TZID=UTC:20251213T110000
DTEND;TZID=UTC:20251213T130000
DTSTAMP:20260423T193336
CREATED:20251012T184848Z
LAST-MODIFIED:20251112T233412Z
UID:1941-1765623600-1765630800@www.fbcplumgrove.church
SUMMARY:Ladies Xmas Brunch
DESCRIPTION:Ladies Xmas Brunch
URL:https://www.fbcplumgrove.church/calendar/senior-plums-xmas-brunch/
END:VEVENT
BEGIN:VEVENT
DTSTART;TZID=UTC:20251214T110000
DTEND;TZID=UTC:20251214T120000
DTSTAMP:20260423T193336
CREATED:20250110T104531Z
LAST-MODIFIED:20250915T041350Z
UID:1611-1765710000-1765713600@www.fbcplumgrove.church
SUMMARY:Christmas Program
DESCRIPTION:
URL:https://www.fbcplumgrove.church/calendar/christmas-program-4/
END:VEVENT
BEGIN:VEVENT
DTSTART;TZID=UTC:20251214T120000
DTEND;TZID=UTC:20251214T140000
DTSTAMP:20260423T193336
CREATED:20251015T232757Z
LAST-MODIFIED:20251119T171026Z
UID:1945-1765713600-1765720800@www.fbcplumgrove.church
SUMMARY:Children's Xmas Party 1st-6th
DESCRIPTION:
URL:https://www.fbcplumgrove.church/calendar/childrens-xmas-party-1st-6th/
END:VEVENT
BEGIN:VEVENT
DTSTART;TZID=UTC:20251221T120000
DTEND;TZID=UTC:20251221T121500
DTSTAMP:20260423T193336
CREATED:20250921T183005Z
LAST-MODIFIED:20250921T183005Z
UID:1790-1766318400-1766319300@www.fbcplumgrove.church
SUMMARY:Vote on Budget
DESCRIPTION:
URL:https://www.fbcplumgrove.church/calendar/vote-on-budget/
END:VEVENT
BEGIN:VEVENT
DTSTART;VALUE=DATE:20251224
DTEND;VALUE=DATE:20251225
DTSTAMP:20260423T193336
CREATED:20241007T091215Z
LAST-MODIFIED:20241007T091215Z
UID:1586-1766534400-1766620799@www.fbcplumgrove.church
SUMMARY:No Activities
DESCRIPTION:
URL:https://www.fbcplumgrove.church/calendar/no-activities-16/
END:VEVENT
BEGIN:VEVENT
DTSTART;VALUE=DATE:20251231
DTEND;VALUE=DATE:20260101
DTSTAMP:20260423T193336
CREATED:20241007T091257Z
LAST-MODIFIED:20241007T091257Z
UID:1588-1767139200-1767225599@www.fbcplumgrove.church
SUMMARY:No Activities
DESCRIPTION:
URL:https://www.fbcplumgrove.church/calendar/no-activities-17/
END:VEVENT
END:VCALENDAR